{"text_format":"1","workbook":"xlsx","n_sheets":2,"sheets":["test","forma"],"not_rendered":{"charts":0,"images":0,"macros":1,"external_links":0,"defined_names":0,"comments":0,"pivot_tables":0},"unopened":[],"bounds":{"document_bytes":16777216,"sheet_cells":100000,"rows_first":2000,"rows_last":500,"rows_between":2000,"halvings":0,"cell_chars":16384,"cell_head_chars":4096},"cells_cut":0,"cells_raw":0,"read":"whole","date_system":"1900"}

{"sheet":"test","index":0,"n_rows":288,"n_cols":8,"rows_kept":288,"cut":false,"hidden":false,"merged":[[0,7,1,10],[2,0,2,6],[30,0,30,6],[249,0,249,6],[275,0,275,6],[197,0,197,6],[219,0,219,6],[129,0,129,6],[158,0,158,6],[58,0,58,6],[71,0,71,6],[91,0,91,6],[110,0,110,6],[0,1,0,6]]}
["GenSbornik","Тест к учебному пособию  \"Задачи. Примеры решения \": учебное пособие по классической генетике ",null,null,null,null,null,"Кафедра селекции и семеноводства ФГБОУ ВО Воронежский государственный аграрный университет имени императора Петра I, 2017 г."]
["№ задачи","Вопрос 1","Вопрос 2","Вопрос 3","Вопрос 4","Вопрос 5","Оценка, \nбалл"]
["Независимое наследование признаков (моногибридное скрещивание)"]
["1.1",null,null,null,null,null,{"$f":"SUM(forma!B4:F4)","v":0}]
["1.2",null,null,null,null,null,{"$f":"SUM(forma!B5:F5)","v":0}]
["1.3",null,null,null,null,null,{"$f":"SUM(forma!B6:F6)","v":0}]
["1.4",null,null,null,null,null,{"$f":"SUM(forma!B7:F7)","v":0}]
["1.5",null,null,null,null,null,{"$f":"SUM(forma!B8:F8)","v":0}]
["1.6",null,null,null,null,null,{"$f":"SUM(forma!B9:F9)","v":0}]
["1.7",null,null,null,null,null,{"$f":"SUM(forma!B10:F10)","v":0}]
["1.8",null,null,null,null,null,{"$f":"SUM(forma!B11:F11)","v":0}]
["1.9",null,null,null,null,null,{"$f":"SUM(forma!B12:F12)","v":0}]
["1.10",null,null,null,null,null,{"$f":"SUM(forma!B13:F13)","v":1}]
["1.11",null,null,null,null,null,{"$f":"SUM(forma!B14:F14)","v":0}]
["1.12",null,null,null,null,null,{"$f":"SUM(forma!B15:F15)","v":0}]
["1.13",null,null,null,null,null,{"$f":"SUM(forma!B16:F16)","v":0}]
["1.14",null,null,null,null,null,{"$f":"SUM(forma!B17:F17)","v":0}]
["1.15",null,null,null,null,null,{"$f":"SUM(forma!B18:F18)","v":0}]
["1.16",null,null,null,null,null,{"$f":"SUM(forma!B19:F19)","v":0}]
["1.17",null,null,null,null,null,{"$f":"SUM(forma!B20:F20)","v":0}]
["1.18",null,null,null,null,null,{"$f":"SUM(forma!B21:F21)","v":0}]
["1.19",null,null,null,null,null,{"$f":"SUM(forma!B22:F22)","v":0}]
["1.20",null,null,null,null,null,{"$f":"SUM(forma!B23:F23)","v":0}]
["1.21",null,null,null,null,null,{"$f":"SUM(forma!B24:F24)","v":0}]
["1.22",null,null,null,null,null,{"$f":"SUM(forma!B25:F25)","v":1}]
["1.23",null,null,null,null,null,{"$f":"SUM(forma!B26:F26)","v":1}]
["1.24",null,null,null,null,null,{"$f":"SUM(forma!B27:F27)","v":0}]
["1.25",null,null,null,null,null,{"$f":"SUM(forma!B28:F28)","v":0}]
["1.26",null,null,null,null,null,{"$f":"SUM(forma!B29:F29)","v":0}]
["1.27",null,null,null,null,null,{"$f":"SUM(forma!B30:F30)","v":1}]
["Независимое наследование признаков (дигибридное скрещивание)"]
["2.1",null,null,null,null,null,{"$f":"SUM(forma!B32:F32)","v":0}]
["2.2",null,null,null,null,null,{"$f":"SUM(forma!B33:F33)","v":0}]
["2.3",null,null,null,null,null,{"$f":"SUM(forma!B34:F34)","v":0}]
["2.4",null,null,null,null,null,{"$f":"SUM(forma!B35:F35)","v":0}]
["2.5",null,null,null,null,null,{"$f":"SUM(forma!B36:F36)","v":0}]
["2.6",null,null,null,null,null,{"$f":"SUM(forma!B37:F37)","v":0}]
["2.7",null,null,null,null,null,{"$f":"SUM(forma!B38:F38)","v":0}]
["2.8",null,null,null,null,null,{"$f":"SUM(forma!B39:F39)","v":0}]
["2.9",null,null,null,null,null,{"$f":"SUM(forma!B40:F40)","v":0}]
["2.10",null,null,null,null,null,{"$f":"SUM(forma!B41:F41)","v":0}]
["2.11",null,null,null,null,null,{"$f":"SUM(forma!B42:F42)","v":0}]
["2.12",null,null,null,null,null,{"$f":"SUM(forma!B43:F43)","v":0}]
["2.13",null,null,null,null,null,{"$f":"SUM(forma!B44:F44)","v":0}]
["2.14",null,null,null,null,null,{"$f":"SUM(forma!B45:F45)","v":0}]
["2.15",null,null,null,null,null,{"$f":"SUM(forma!B46:F46)","v":0}]
["2.16",null,null,null,null,null,{"$f":"SUM(forma!B47:F47)","v":0}]
["2.17",null,null,null,null,null,{"$f":"SUM(forma!B48:F48)","v":0}]
["2.18",null,null,null,null,null,{"$f":"SUM(forma!B49:F49)","v":0}]
["2.19",null,null,null,null,null,{"$f":"SUM(forma!B50:F50)","v":0}]
["2.20",null,null,null,null,null,{"$f":"SUM(forma!B51:F51)","v":0}]
["2.21",null,null,null,null,null,{"$f":"SUM(forma!B52:F52)","v":0}]
["2.22",null,null,null,null,null,{"$f":"SUM(forma!B53:F53)","v":0}]
["2.23",null,null,null,null,null,{"$f":"SUM(forma!B54:F54)","v":0}]
["2.24",null,null,null,null,null,{"$f":"SUM(forma!B55:F55)","v":0}]
["2.25",null,null,null,null,null,{"$f":"SUM(forma!B56:F56)","v":0}]
["2.26",null,null,null,null,null,{"$f":"SUM(forma!B57:F57)","v":0}]
["2.27",null,null,null,null,null,{"$f":"SUM(forma!B58:F58)","v":0}]
["Независимое наследование признаков (полигибридное скрещивание)"]
["3.1",null,null,null,null,null,{"$f":"SUM(forma!B60:F60)","v":0}]
["3.2",null,null,null,null,null,{"$f":"SUM(forma!B61:F61)","v":0}]
["3.3",null,null,null,null,null,{"$f":"SUM(forma!B62:F62)","v":0}]
["3.4",null,null,null,null,null,{"$f":"SUM(forma!B63:F63)","v":0}]
["3.5",null,null,null,null,null,{"$f":"SUM(forma!B64:F64)","v":0}]
["3.6",null,null,null,null,null,{"$f":"SUM(forma!B65:F65)","v":0}]
["3.7",null,null,null,null,null,{"$f":"SUM(forma!B66:F66)","v":0}]
["3.8",null,null,null,null,null,{"$f":"SUM(forma!B67:F67)","v":0}]
["3.9",null,null,null,null,null,{"$f":"SUM(forma!B68:F68)","v":0}]
["3.10",null,null,null,null,null,{"$f":"SUM(forma!B69:F69)","v":0}]
["3.11",null,null,null,null,null,{"$f":"SUM(forma!B70:F70)","v":0}]
["3.12",null,null,null,null,null,{"$f":"SUM(forma!B71:F71)","v":0}]
["Типы взаимодействия неаллельных генов (комплементарность)"]
["4.1",null,null,null,null,null,{"$f":"SUM(forma!B73:F73)","v":0}]
["4.2",null,null,null,null,null,{"$f":"SUM(forma!B74:F74)","v":0}]
["4.3",null,null,null,null,null,{"$f":"SUM(forma!B75:F75)","v":0}]
["4.4",null,null,null,null,null,{"$f":"SUM(forma!B76:F76)","v":0}]
["4.5",null,null,null,null,null,{"$f":"SUM(forma!B77:F77)","v":0}]
["4.6",null,null,null,null,null,{"$f":"SUM(forma!B78:F78)","v":0}]
["4.7",null,null,null,null,null,{"$f":"SUM(forma!B79:F79)","v":0}]
["4.8",null,null,null,null,null,{"$f":"SUM(forma!B80:F80)","v":0}]
["4.9",null,null,null,null,null,{"$f":"SUM(forma!B81:F81)","v":0}]
["4.10",null,null,null,null,null,{"$f":"SUM(forma!B82:F82)","v":0}]
["4.11",null,null,null,null,null,{"$f":"SUM(forma!B83:F83)","v":0}]
["4.12",null,null,null,null,null,{"$f":"SUM(forma!B84:F84)","v":0}]
["4.13",null,null,null,null,null,{"$f":"SUM(forma!B85:F85)","v":0}]
["4.14",null,null,null,null,null,{"$f":"SUM(forma!B86:F86)","v":0}]
["4.15",null,null,null,null,null,{"$f":"SUM(forma!B87:F87)","v":0}]
["4.16",null,null,null,null,null,{"$f":"SUM(forma!B88:F88)","v":0}]
["4.17",null,null,null,null,null,{"$f":"SUM(forma!B89:F89)","v":0}]
["4.18",null,null,null,null,null,{"$f":"SUM(forma!B90:F90)","v":0}]
["4.19",null,null,null,null,null,{"$f":"SUM(forma!B91:F91)","v":0}]
["Типы взаимодействия неаллельных генов (эпистаз)"]
["5.1",null,null,null,null,null,{"$f":"SUM(forma!B93:F93)","v":0}]
["5.2",null,null,null,null,null,{"$f":"SUM(forma!B94:F94)","v":0}]
["5.3",null,null,null,null,null,{"$f":"SUM(forma!B95:F95)","v":0}]
["5.4",null,null,null,null,null,{"$f":"SUM(forma!B96:F96)","v":0}]
["5.5",null,null,null,null,null,{"$f":"SUM(forma!B97:F97)","v":0}]
["5.6",null,null,null,null,null,{"$f":"SUM(forma!B98:F98)","v":0}]
["5.7",null,null,null,null,null,{"$f":"SUM(forma!B99:F99)","v":0}]
["5.8",null,null,null,null,null,{"$f":"SUM(forma!B100:F100)","v":0}]
["5.9",null,null,null,null,null,{"$f":"SUM(forma!B101:F101)","v":0}]
["5.10",null,null,null,null,null,{"$f":"SUM(forma!B102:F102)","v":0}]
["5.11",null,null,null,null,null,{"$f":"SUM(forma!B103:F103)","v":0}]
["5.12",null,null,null,null,null,{"$f":"SUM(forma!B104:F104)","v":0}]
["5.13",null,null,null,null,null,{"$f":"SUM(forma!B105:F105)","v":0}]
["5.14",null,null,null,null,null,{"$f":"SUM(forma!B106:F106)","v":0}]
["5.15",null,null,null,null,null,{"$f":"SUM(forma!B107:F107)","v":0}]
["5.16",null,null,null,null,null,{"$f":"SUM(forma!B108:F108)","v":0}]
["5.17",null,null,null,null,null,{"$f":"SUM(forma!B109:F109)","v":0}]
["5.18",null,null,null,null,null,{"$f":"SUM(forma!B110:F110)","v":0}]
["Типы взаимодействия неаллельных генов (полимерия)"]
["6.1",null,null,null,null,null,{"$f":"SUM(forma!B112:F112)","v":0}]
["6.2",null,null,null,null,null,{"$f":"SUM(forma!B113:F113)","v":0}]
["6.3",null,null,null,null,null,{"$f":"SUM(forma!B114:F114)","v":0}]
["6.4",null,null,null,null,null,{"$f":"SUM(forma!B115:F115)","v":0}]
["6.5",null,null,null,null,null,{"$f":"SUM(forma!B116:F116)","v":0}]
["6.6",null,null,null,null,null,{"$f":"SUM(forma!B117:F117)","v":0}]
["6.7",null,null,null,null,null,{"$f":"SUM(forma!B118:F118)","v":0}]
["6.8",null,null,null,null,null,{"$f":"SUM(forma!B119:F119)","v":0}]
["6.9",null,null,null,null,null,{"$f":"SUM(forma!B120:F120)","v":0}]
["6.10",null,null,null,null,null,{"$f":"SUM(forma!B121:F121)","v":0}]
["6.11",null,null,null,null,null,{"$f":"SUM(forma!B122:F122)","v":1}]
["6.12",null,null,null,null,null,{"$f":"SUM(forma!B123:F123)","v":0}]
["6.13",null,null,null,null,null,{"$f":"SUM(forma!B124:F124)","v":0}]
["6.14",null,null,null,null,null,{"$f":"SUM(forma!B125:F125)","v":0}]
["6.15",null,null,null,null,null,{"$f":"SUM(forma!B126:F126)","v":0}]
["6.16",null,null,null,null,null,{"$f":"SUM(forma!B127:F127)","v":0}]
["6.17",null,null,null,null,null,{"$f":"SUM(forma!B128:F128)","v":0}]
["6.18",null,null,null,null,null,{"$f":"SUM(forma!B129:F129)","v":0}]
["Сцепленное наследование признаков (полное сцепленое наследование)"]
["7.1",null,null,null,null,null,{"$f":"SUM(forma!B131:F131)","v":0}]
["7.2",null,null,null,null,null,{"$f":"SUM(forma!B132:F132)","v":0}]
["7.3",null,null,null,null,null,{"$f":"SUM(forma!B133:F133)","v":0}]
["7.4",null,null,null,null,null,{"$f":"SUM(forma!B134:F134)","v":0}]
["7.5",null,null,null,null,null,{"$f":"SUM(forma!B135:F135)","v":0}]
["7.6",null,null,null,null,null,{"$f":"SUM(forma!B136:F136)","v":0}]
["7.7",null,null,null,null,null,{"$f":"SUM(forma!B137:F137)","v":0}]
["7.8",null,null,null,null,null,{"$f":"SUM(forma!B138:F138)","v":0}]
["7.9",null,null,null,null,null,{"$f":"SUM(forma!B139:F139)","v":0}]
["7.10",null,null,null,null,null,{"$f":"SUM(forma!B140:F140)","v":0}]
["7.11",null,null,null,null,null,{"$f":"SUM(forma!B141:F141)","v":0}]
["7.12",null,null,null,null,null,{"$f":"SUM(forma!B142:F142)","v":0}]
["7.13",null,null,null,null,null,{"$f":"SUM(forma!B143:F143)","v":0}]
["7.14",null,null,null,null,null,{"$f":"SUM(forma!B144:F144)","v":0}]
["7.15",null,null,null,null,null,{"$f":"SUM(forma!B145:F145)","v":0}]
["7.16",null,null,null,null,null,{"$f":"SUM(forma!B146:F146)","v":0}]
["7.17",null,null,null,null,null,{"$f":"SUM(forma!B147:F147)","v":0}]
["7.18",null,null,null,null,null,{"$f":"SUM(forma!B148:F148)","v":0}]
["7.19",null,null,null,null,null,{"$f":"SUM(forma!B149:F149)","v":1}]
["7.20",null,null,null,null,null,{"$f":"SUM(forma!B150:F150)","v":0}]
["7.21",null,null,null,null,null,{"$f":"SUM(forma!B151:F151)","v":1}]
["7.22",null,null,null,null,null,{"$f":"SUM(forma!B152:F152)","v":0}]
["7.23",null,null,null,null,null,{"$f":"SUM(forma!B153:F153)","v":2}]
["7.24",null,null,null,null,null,{"$f":"SUM(forma!B154:F154)","v":0}]
["7.25",null,null,null,null,null,{"$f":"SUM(forma!B155:F155)","v":0}]
["7.26",null,null,null,null,null,{"$f":"SUM(forma!B156:F156)","v":0}]
["7.27",null,null,null,null,null,{"$f":"SUM(forma!B157:F157)","v":0}]
["7.28",null,null,null,null,null,{"$f":"SUM(forma!B158:F158)","v":0}]
["Сцепленное наследование признаков (неполное сцепленное наследование)"]
["8.1",null,null,null,null,null,{"$f":"SUM(forma!B160:F160)","v":0}]
["8.2",null,null,null,null,null,{"$f":"SUM(forma!B161:F161)","v":0}]
["8.3",null,null,null,null,null,{"$f":"SUM(forma!B162:F162)","v":0}]
["8.4",null,null,null,null,null,{"$f":"SUM(forma!B163:F163)","v":0}]
["8.5",null,null,null,null,null,{"$f":"SUM(forma!B164:F164)","v":0}]
["8.6",null,null,null,null,null,{"$f":"SUM(forma!B165:F165)","v":0}]
["8.7",null,null,null,null,null,{"$f":"SUM(forma!B166:F166)","v":0}]
["8.8",null,null,null,null,null,{"$f":"SUM(forma!B167:F167)","v":0}]
["8.9",null,null,null,null,null,{"$f":"SUM(forma!B168:F168)","v":0}]
["8.10",null,null,null,null,null,{"$f":"SUM(forma!B169:F169)","v":0}]
["8.11",null,null,null,null,null,{"$f":"SUM(forma!B170:F170)","v":0}]
["8.12",null,null,null,null,null,{"$f":"SUM(forma!B171:F171)","v":0}]
["8.13",null,null,null,null,null,{"$f":"SUM(forma!B172:F172)","v":0}]
["8.14",null,null,null,null,null,{"$f":"SUM(forma!B173:F173)","v":0}]
["8.15",null,null,null,null,null,{"$f":"SUM(forma!B174:F174)","v":0}]
["8.16",null,null,null,null,null,{"$f":"SUM(forma!B175:F175)","v":0}]
["8.17",null,null,null,null,null,{"$f":"SUM(forma!B176:F176)","v":0}]
["8.18",null,null,null,null,null,{"$f":"SUM(forma!B177:F177)","v":0}]
["8.19",null,null,null,null,null,{"$f":"SUM(forma!B178:F178)","v":0}]
["8.20",null,null,null,null,null,{"$f":"SUM(forma!B179:F179)","v":0}]
["8.21",null,null,null,null,null,{"$f":"SUM(forma!B180:F180)","v":0}]
["8.22",null,null,null,null,null,{"$f":"SUM(forma!B181:F181)","v":0}]
["8.23",null,null,null,null,null,{"$f":"SUM(forma!B182:F182)","v":1}]
["8.24",null,null,null,null,null,{"$f":"SUM(forma!B183:F183)","v":0}]
["8.25",null,null,null,null,null,{"$f":"SUM(forma!B184:F184)","v":0}]
["8.26",null,null,null,null,null,{"$f":"SUM(forma!B185:F185)","v":0}]
["8.27",null,null,null,null,null,{"$f":"SUM(forma!B186:F186)","v":0}]
["8.28",null,null,null,null,null,{"$f":"SUM(forma!B187:F187)","v":0}]
["8.29",null,null,null,null,null,{"$f":"SUM(forma!B188:F188)","v":0}]
["8.30",null,null,null,null,null,{"$f":"SUM(forma!B189:F189)","v":0}]
["8.31",null,null,null,null,null,{"$f":"SUM(forma!B190:F190)","v":0}]
["8.32",null,null,null,null,null,{"$f":"SUM(forma!B191:F191)","v":0}]
["8.33",null,null,null,null,null,{"$f":"SUM(forma!B192:F192)","v":0}]
["8.34",null,null,null,null,null,{"$f":"SUM(forma!B193:F193)","v":0}]
["8.35",null,null,null,null,null,{"$f":"SUM(forma!B194:F194)","v":0}]
["8.36",null,null,null,null,null,{"$f":"SUM(forma!B195:F195)","v":0}]
["8.37",null,null,null,null,null,{"$f":"SUM(forma!B196:F196)","v":0}]
["8.38",null,null,null,null,null,{"$f":"SUM(forma!B197:F197)","v":0}]
["Сцепленное наследование признаков (генетические карты хромосом)"]
["9.1",null,null,null,null,null,{"$f":"SUM(forma!B199:F199)","v":0}]
["9.2",null,null,null,null,null,{"$f":"SUM(forma!B200:F200)","v":0}]
["9.3",null,null,null,null,null,{"$f":"SUM(forma!B201:F201)","v":0}]
["9.4",null,null,null,null,null,{"$f":"SUM(forma!B202:F202)","v":0}]
["9.5",null,null,null,null,null,{"$f":"SUM(forma!B203:F203)","v":0}]
["9.6",null,null,null,null,null,{"$f":"SUM(forma!B204:F204)","v":0}]
["9.7",null,null,null,null,null,{"$f":"SUM(forma!B205:F205)","v":0}]
["9.8",null,null,null,null,null,{"$f":"SUM(forma!B206:F206)","v":0}]
["9.9",null,null,null,null,null,{"$f":"SUM(forma!B207:F207)","v":0}]
["9.10",null,null,null,null,null,{"$f":"SUM(forma!B208:F208)","v":0}]
["9.11",null,null,null,null,null,{"$f":"SUM(forma!B209:F209)","v":0}]
["9.12",null,null,null,null,null,{"$f":"SUM(forma!B210:F210)","v":0}]
["9.13",null,null,null,null,null,{"$f":"SUM(forma!B211:F211)","v":0}]
["9.14",null,null,null,null,null,{"$f":"SUM(forma!B212:F212)","v":0}]
["9.15",null,null,null,null,null,{"$f":"SUM(forma!B212:F212)","v":0}]
["9.16",null,null,null,null,null,{"$f":"SUM(forma!B214:F214)","v":0}]
["9.17",null,null,null,null,null,{"$f":"SUM(forma!B215:F215)","v":0}]
["9.18",null,null,null,null,null,{"$f":"SUM(forma!B216:F216)","v":0}]
["9.19",null,null,null,null,null,{"$f":"SUM(forma!B217:F217)","v":0}]
["9.20",null,null,null,null,null,{"$f":"SUM(forma!B218:F218)","v":0}]
["9.21",null,null,null,null,null,{"$f":"SUM(forma!B219:F219)","v":0}]
["Сцепленное наследование признаков (сцепленное с полом наследование)"]
["10.1",null,null,null,null,null,{"$f":"SUM(forma!B221:F221)","v":0}]
["10.2",null,null,null,null,null,{"$f":"SUM(forma!B222:F222)","v":0}]
["10.3",null,null,null,null,null,{"$f":"SUM(forma!B223:F223)","v":0}]
["10.4",null,null,null,null,null,{"$f":"SUM(forma!B224:F224)","v":1}]
["10.5",null,null,null,null,null,{"$f":"SUM(forma!B225:F225)","v":0}]
["10.6",null,null,null,null,null,{"$f":"SUM(forma!B226:F226)","v":0}]
["10.7",null,null,null,null,null,{"$f":"SUM(forma!B227:F227)","v":1}]
["10.8",null,null,null,null,null,{"$f":"SUM(forma!B228:F228)","v":0}]
["10.9",null,null,null,null,null,{"$f":"SUM(forma!B229:F229)","v":0}]
["10.10",null,null,null,null,null,{"$f":"SUM(forma!B230:F230)","v":0}]
["10.11",null,null,null,null,null,{"$f":"SUM(forma!B231:F231)","v":0}]
["10.12",null,null,null,null,null,{"$f":"SUM(forma!B232:F232)","v":0}]
["10.13",null,null,null,null,null,{"$f":"SUM(forma!B233:F233)","v":1}]
["10.14",null,null,null,null,null,{"$f":"SUM(forma!B234:F234)","v":0}]
["10.15",null,null,null,null,null,{"$f":"SUM(forma!B235:F235)","v":0}]
["10.16",null,null,null,null,null,{"$f":"SUM(forma!B236:F236)","v":0}]
["10.17",null,null,null,null,null,{"$f":"SUM(forma!B237:F237)","v":0}]
["10.18",null,null,null,null,null,{"$f":"SUM(forma!B238:F238)","v":0}]
["10.19",null,null,null,null,null,{"$f":"SUM(forma!B239:F239)","v":0}]
["10.20",null,null,null,null,null,{"$f":"SUM(forma!B240:F240)","v":0}]
["10.21",null,null,null,null,null,{"$f":"SUM(forma!B241:F241)","v":0}]
["10.22",null,null,null,null,null,{"$f":"SUM(forma!B242:F242)","v":0}]
["10.23",null,null,null,null,null,{"$f":"SUM(forma!B243:F243)","v":0}]
["10.24",null,null,null,null,null,{"$f":"SUM(forma!B244:F244)","v":0}]
["10.25",null,null,null,null,null,{"$f":"SUM(forma!B245:F245)","v":0}]
["10.26",null,null,null,null,null,{"$f":"SUM(forma!B246:F246)","v":0}]
["10.27",null,null,null,null,null,{"$f":"SUM(forma!B247:F247)","v":2}]
["10.28",null,null,null,null,null,{"$f":"SUM(forma!B248:F248)","v":1}]
["10.29",null,null,null,null,null,{"$f":"SUM(forma!B249:F249)","v":0}]
["Генетическая структура популяции"]
["11.1",null,null,null,null,null,{"$f":"SUM(forma!B251:F251)","v":0}]
["11.2",null,null,null,null,null,{"$f":"SUM(forma!B252:F252)","v":0}]
["11.3",null,null,null,null,null,{"$f":"SUM(forma!B253:F253)","v":0}]
["11.4",null,null,null,null,null,{"$f":"SUM(forma!B254:F254)","v":0}]
["11.5",null,null,null,null,null,{"$f":"SUM(forma!B255:F255)","v":0}]
["11.6",null,null,null,null,null,{"$f":"SUM(forma!B256:F256)","v":0}]
["11.7",null,null,null,null,null,{"$f":"SUM(forma!B257:F257)","v":0}]
["11.8",null,null,null,null,null,{"$f":"SUM(forma!B258:F258)","v":0}]
["11.9",null,null,null,null,null,{"$f":"SUM(forma!B259:F259)","v":0}]
["11.10",null,null,null,null,null,{"$f":"SUM(forma!B260:F260)","v":0}]
["11.11",null,null,null,null,null,{"$f":"SUM(forma!B261:F261)","v":0}]
["11.12",null,null,null,null,null,{"$f":"SUM(forma!B262:F262)","v":0}]
["11.13",null,null,null,null,null,{"$f":"SUM(forma!B263:F263)","v":0}]
["11.14",null,null,null,null,null,{"$f":"SUM(forma!B264:F264)","v":0}]
["11.15",null,null,null,null,null,{"$f":"SUM(forma!B265:F265)","v":0}]
["11.16",null,null,null,null,null,{"$f":"SUM(forma!B266:F266)","v":0}]
["11.17",null,null,null,null,null,{"$f":"SUM(forma!B267:F267)","v":0}]
["11.18",null,null,null,null,null,{"$f":"SUM(forma!B268:F268)","v":0}]
["11.19",null,null,null,null,null,{"$f":"SUM(forma!B269:F269)","v":0}]
["11.20",null,null,null,null,null,{"$f":"SUM(forma!B270:F270)","v":0}]
["11.21",null,null,null,null,null,{"$f":"SUM(forma!B271:F271)","v":0}]
["11.22",null,null,null,null,null,{"$f":"SUM(forma!B272:F272)","v":0}]
["11.23",null,null,null,null,null,{"$f":"SUM(forma!B273:F273)","v":0}]
["11.24",null,null,null,null,null,{"$f":"SUM(forma!B274:F274)","v":0}]
["11.25",null,null,null,null,null,{"$f":"SUM(forma!B275:F275)","v":0}]
["Цитоплазматическая наследственность"]
["12.1",null,null,null,null,null,{"$f":"SUM(forma!B277:F277)","v":0}]
["12.2",null,null,null,null,null,{"$f":"SUM(forma!B278:F278)","v":1}]
["12.3",null,null,null,null,null,{"$f":"SUM(forma!B279:F279)","v":1}]
["12.4",null,null,null,null,null,{"$f":"SUM(forma!B280:F280)","v":0}]
["12.5",null,null,null,null,null,{"$f":"SUM(forma!B281:F281)","v":0}]
["12.6",null,null,null,null,null,{"$f":"SUM(forma!B282:F282)","v":1}]
["12.7",null,null,null,null,null,{"$f":"SUM(forma!B283:F283)","v":1}]
["12.8",null,null,null,null,null,{"$f":"SUM(forma!B284:F284)","v":1}]
["12.9",null,null,null,null,null,{"$f":"SUM(forma!B285:F285)","v":0}]
["12.10",null,null,null,null,null,{"$f":"SUM(forma!B286:F286)","v":1}]
["12.11",null,null,null,null,null,{"$f":"SUM(forma!B287:F287)","v":1}]
["12.12",null,null,null,null,null,{"$f":"SUM(forma!B288:F288)","v":2}]

{"sheet":"forma","index":1,"n_rows":288,"n_cols":6,"rows_kept":288,"cut":false,"hidden":true,"merged":[[0,1,0,5]]}
[null,"№ вопроса"]
["№ задачи"]
[]
["1.1",{"$f":"IF(test!B4=1,1,0)","v":0},{"$f":"IF(test!C4=1,1,0)","v":0},{"$f":"IF(test!D4=162,1,0)","v":0},{"$f":"IF(test!E4=162,1,0)","v":0},{"$f":"IF(test!F4=162,1,0)","v":0}]
["1.2",{"$f":"IF(test!B5=2,1,0)","v":0},{"$f":"IF(test!C5=1,1,0)","v":0},{"$f":"IF(test!D5=240,1,0)","v":0},{"$f":"IF(test!E5=240,1,0)","v":0},{"$f":"IF(test!F5=240,1,0)","v":0}]
["1.3",{"$f":"IF(test!B6=1,1,0)","v":0},{"$f":"IF(test!C6=2,1,0)","v":0},{"$f":"IF(test!D6=16,1,0)","v":0},{"$f":"IF(test!E6=8,1,0)","v":0},{"$f":"IF(test!F6=8,1,0)","v":0}]
["1.4",{"$f":"IF(test!B7=8,1,0)","v":0},{"$f":"IF(test!C7=2,1,0)","v":0},{"$f":"IF(test!D7=3,1,0)","v":0},{"$f":"IF(test!E7=210,1,0)","v":0},{"$f":"IF(test!F7=105,1,0)","v":0}]
["1.5",{"$f":"IF(test!B8=2,1,0)","v":0},{"$f":"IF(test!C8=2,1,0)","v":0},{"$f":"IF(test!D8=24,1,0)","v":0},{"$f":"IF(test!E8=48,1,0)","v":0},{"$f":"IF(test!F8=24,1,0)","v":0}]
["1.6",{"$f":"IF(test!B9=1,1,0)","v":0},{"$f":"IF(test!C9=2,1,0)","v":0},{"$f":"IF(test!D9=24,1,0)","v":0},{"$f":"IF(test!E9=2,1,0)","v":0},{"$f":"IF(test!F9=24,1,0)","v":0}]
["1.7",{"$f":"IF(test!B10=2,1,0)","v":0},{"$f":"IF(test!C10=6,1,0)","v":0},{"$f":"IF(test!D10=32,1,0)","v":0},{"$f":"IF(test!E10=32,1,0)","v":0},{"$f":"IF(test!F10=96,1,0)","v":0}]
["1.8",{"$f":"IF(test!B11=2,1,0)","v":0},{"$f":"IF(test!C11=1,1,0)","v":0},{"$f":"IF(test!D11=48,1,0)","v":0},{"$f":"IF(test!E11=24,1,0)","v":0},{"$f":"IF(test!F11=72,1,0)","v":0}]
["1.9",{"$f":"IF(test!B12=2,1,0)","v":0},{"$f":"IF(test!C12=1,1,0)","v":0},{"$f":"IF(test!D12=2,1,0)","v":0},{"$f":"IF(test!E12=96,1,0)","v":0},{"$f":"IF(test!F12=48,1,0)","v":0}]
["1.10",{"$f":"IF(test!B13=1,1,0)","v":0},{"$f":"IF(test!C13=2,1,0)","v":0},{"$f":"IF(test!D13=88,1,0)","v":0},{"$f":"IF(test!E13=2,1,0)","v":0},{"$f":"IF(test!F13=0,1,0)","v":1}]
["1.11",{"$f":"IF(test!B14=12,1,0)","v":0},{"$f":"IF(test!C14=1,1,0)","v":0},{"$f":"IF(test!D14=2,1,0)","v":0},{"$f":"IF(test!E14=360,1,0)","v":0},{"$f":"IF(test!F14=120,1,0)","v":0}]
["1.12",{"$f":"IF(test!B15=20,1,0)","v":0},{"$f":"IF(test!C15=2,1,0)","v":0},{"$f":"IF(test!D15=2,1,0)","v":0},{"$f":"IF(test!E15=48,1,0)","v":0},{"$f":"IF(test!F15=48,1,0)","v":0}]
["1.13",{"$f":"IF(test!B16=1,1,0)","v":0},{"$f":"IF(test!C16=2,1,0)","v":0},{"$f":"IF(test!D16=16,1,0)","v":0},{"$f":"IF(test!E16=66,1,0)","v":0},{"$f":"IF(test!F16=33,1,0)","v":0}]
["1.14",{"$f":"IF(test!B17=2,1,0)","v":0},{"$f":"IF(test!C17=3,1,0)","v":0},{"$f":"IF(test!D17=192,1,0)","v":0},{"$f":"IF(test!E17=64,1,0)","v":0},{"$f":"IF(test!F17=2,1,0)","v":0}]
["1.15",{"$f":"IF(test!B18=24,1,0)","v":0},{"$f":"IF(test!C18=72,1,0)","v":0},{"$f":"IF(test!D18=24,1,0)","v":0},{"$f":"IF(test!E18=2,1,0)","v":0},{"$f":"IF(test!F18=1,1,0)","v":0}]
["1.16",{"$f":"IF(test!B19=1,1,0)","v":0},{"$f":"IF(test!C19=1,1,0)","v":0},{"$f":"IF(test!D19=192,1,0)","v":0},{"$f":"IF(test!E19=12,1,0)","v":0},{"$f":"IF(test!F19=12,1,0)","v":0}]
["1.17",{"$f":"IF(test!B20=2,1,0)","v":0},{"$f":"IF(test!C20=1,1,0)","v":0},{"$f":"IF(test!D20=2,1,0)","v":0},{"$f":"IF(test!E20=360,1,0)","v":0},{"$f":"IF(test!F20=360,1,0)","v":0}]
["1.18",{"$f":"IF(test!B21=2,1,0)","v":0},{"$f":"IF(test!C21=2,1,0)","v":0},{"$f":"IF(test!D21=240,1,0)","v":0},{"$f":"IF(test!E21=1,1,0)","v":0},{"$f":"IF(test!F21=240,1,0)","v":0}]
["1.19",{"$f":"IF(test!B22=1,1,0)","v":0},{"$f":"IF(test!C22=8,1,0)","v":0},{"$f":"IF(test!D22=24,1,0)","v":0},{"$f":"IF(test!E22=24,1,0)","v":0},{"$f":"IF(test!F22=24,1,0)","v":0}]
["1.20",{"$f":"IF(test!B23=2,1,0)","v":0},{"$f":"IF(test!C23=3,1,0)","v":0},{"$f":"IF(test!D23=168,1,0)","v":0},{"$f":"IF(test!E23=168,1,0)","v":0},{"$f":"IF(test!F23=168,1,0)","v":0}]
["1.21",{"$f":"IF(test!B24=2,1,0)","v":0},{"$f":"IF(test!C24=3,1,0)","v":0},{"$f":"IF(test!D24=24,1,0)","v":0},{"$f":"IF(test!E24=24,1,0)","v":0},{"$f":"IF(test!F24=24,1,0)","v":0}]
["1.22",{"$f":"IF(test!B25=2,1,0)","v":0},{"$f":"IF(test!C25=80,1,0)","v":0},{"$f":"IF(test!D25=80,1,0)","v":0},{"$f":"IF(test!E25=2,1,0)","v":0},{"$f":"IF(test!F25=0,1,0)","v":1}]
["1.23",{"$f":"IF(test!B26=1,1,0)","v":0},{"$f":"IF(test!C26=2,1,0)","v":0},{"$f":"IF(test!D26=0,1,0)","v":1},{"$f":"IF(test!E26=64,1,0)","v":0},{"$f":"IF(test!F26=2,1,0)","v":0}]
["1.24",{"$f":"IF(test!B27=2,1,0)","v":0},{"$f":"IF(test!C27=7,1,0)","v":0},{"$f":"IF(test!D27=3,1,0)","v":0},{"$f":"IF(test!E27=7,1,0)","v":0},{"$f":"IF(test!F27=14,1,0)","v":0}]
["1.25",{"$f":"IF(test!B28=2,1,0)","v":0},{"$f":"IF(test!C28=3,1,0)","v":0},{"$f":"IF(test!D28=12,1,0)","v":0},{"$f":"IF(test!E28=24,1,0)","v":0},{"$f":"IF(test!F28=3,1,0)","v":0}]
["1.26",{"$f":"IF(test!B29=1,1,0)","v":0},{"$f":"IF(test!C29=2,1,0)","v":0},{"$f":"IF(test!D29=23,1,0)","v":0},{"$f":"IF(test!E29=46,1,0)","v":0},{"$f":"IF(test!F29=23,1,0)","v":0}]
["1.27",{"$f":"IF(test!B30=0,1,0)","v":1},{"$f":"IF(test!C30=2,1,0)","v":0},{"$f":"IF(test!D30=2,1,0)","v":0},{"$f":"IF(test!E30=42,1,0)","v":0},{"$f":"IF(test!F30=2,1,0)","v":0}]
[]
["2.1",{"$f":"IF(test!B32=1,1,0)","v":0},{"$f":"IF(test!C32=15,1,0)","v":0},{"$f":"IF(test!D32=4,1,0)","v":0},{"$f":"IF(test!E32=90,1,0)","v":0},{"$f":"IF(test!F32=270,1,0)","v":0}]
["2.2",{"$f":"IF(test!B33=4,1,0)","v":0},{"$f":"IF(test!C33=1,1,0)","v":0},{"$f":"IF(test!D33=62,1,0)","v":0},{"$f":"IF(test!E33=62,1,0)","v":0},{"$f":"IF(test!F33=124,1,0)","v":0}]
["2.3",{"$f":"IF(test!B34=4,1,0)","v":0},{"$f":"IF(test!C34=240,1,0)","v":0},{"$f":"IF(test!D34=240,1,0)","v":0},{"$f":"IF(test!E34=60,1,0)","v":0},{"$f":"IF(test!F34=120,1,0)","v":0}]
["2.4",{"$f":"IF(test!B35=1,1,0)","v":0},{"$f":"IF(test!C35=1,1,0)","v":0},{"$f":"IF(test!D35=4,1,0)","v":0},{"$f":"IF(test!E35=132,1,0)","v":0},{"$f":"IF(test!F35=44,1,0)","v":0}]
["2.5",{"$f":"IF(test!B36=16,1,0)","v":0},{"$f":"IF(test!C36=4,1,0)","v":0},{"$f":"IF(test!D36=4,1,0)","v":0},{"$f":"IF(test!E36=180,1,0)","v":0},{"$f":"IF(test!F36=20,1,0)","v":0}]
["2.6",{"$f":"IF(test!B37=4,1,0)","v":0},{"$f":"IF(test!C37=5,1,0)","v":0},{"$f":"IF(test!D37=4,1,0)","v":0},{"$f":"IF(test!E37=5,1,0)","v":0},{"$f":"IF(test!F37=10,1,0)","v":0}]
["2.7",{"$f":"IF(test!B38=1,1,0)","v":0},{"$f":"IF(test!C38=4,1,0)","v":0},{"$f":"IF(test!D38=1,1,0)","v":0},{"$f":"IF(test!E38=45,1,0)","v":0},{"$f":"IF(test!F38=15,1,0)","v":0}]
["2.8",{"$f":"IF(test!B39=2,1,0)","v":0},{"$f":"IF(test!C39=2,1,0)","v":0},{"$f":"IF(test!D39=3,1,0)","v":0},{"$f":"IF(test!E39=24,1,0)","v":0},{"$f":"IF(test!F39=6,1,0)","v":0}]
["2.9",{"$f":"IF(test!B40=4,1,0)","v":0},{"$f":"IF(test!C40=18,1,0)","v":0},{"$f":"IF(test!D40=99,1,0)","v":0},{"$f":"IF(test!E40=99,1,0)","v":0},{"$f":"IF(test!F40=33,1,0)","v":0}]
["2.10",{"$f":"IF(test!B41=4,1,0)","v":0},{"$f":"IF(test!C41=1,1,0)","v":0},{"$f":"IF(test!D41=4,1,0)","v":0},{"$f":"IF(test!E41=6,1,0)","v":0},{"$f":"IF(test!F41=12,1,0)","v":0}]
["2.11",{"$f":"IF(test!B42=4,1,0)","v":0},{"$f":"IF(test!C42=4,1,0)","v":0},{"$f":"IF(test!D42=279,1,0)","v":0},{"$f":"IF(test!E42=93,1,0)","v":0},{"$f":"IF(test!F42=93,1,0)","v":0}]
["2.12",{"$f":"IF(test!B43=4,1,0)","v":0},{"$f":"IF(test!C43=2,1,0)","v":0},{"$f":"IF(test!D43=4,1,0)","v":0},{"$f":"IF(test!E43=6,1,0)","v":0},{"$f":"IF(test!F43=2,1,0)","v":0}]
["2.13",{"$f":"IF(test!B44=1,1,0)","v":0},{"$f":"IF(test!C44=4,1,0)","v":0},{"$f":"IF(test!D44=24,1,0)","v":0},{"$f":"IF(test!E44=306,1,0)","v":0},{"$f":"IF(test!F44=34,1,0)","v":0}]
["2.14",{"$f":"IF(test!B45=4,1,0)","v":0},{"$f":"IF(test!C45=1,1,0)","v":0},{"$f":"IF(test!D45=12,1,0)","v":0},{"$f":"IF(test!E45=12,1,0)","v":0},{"$f":"IF(test!F45=24,1,0)","v":0}]
["2.15",{"$f":"IF(test!B46=2,1,0)","v":0},{"$f":"IF(test!C46=2,1,0)","v":0},{"$f":"IF(test!D46=4,1,0)","v":0},{"$f":"IF(test!E46=4,1,0)","v":0},{"$f":"IF(test!F46=5,1,0)","v":0}]
["2.16",{"$f":"IF(test!B47=4,1,0)","v":0},{"$f":"IF(test!C47=1,1,0)","v":0},{"$f":"IF(test!D47=4,1,0)","v":0},{"$f":"IF(test!E47=91,1,0)","v":0},{"$f":"IF(test!F47=91,1,0)","v":0}]
["2.17",{"$f":"IF(test!B48=2,1,0)","v":0},{"$f":"IF(test!C48=1,1,0)","v":0},{"$f":"IF(test!D48=2,1,0)","v":0},{"$f":"IF(test!E48=216,1,0)","v":0},{"$f":"IF(test!F48=108,1,0)","v":0}]
["2.18",{"$f":"IF(test!B49=4,1,0)","v":0},{"$f":"IF(test!C49=1,1,0)","v":0},{"$f":"IF(test!D49=4,1,0)","v":0},{"$f":"IF(test!E49=120,1,0)","v":0},{"$f":"IF(test!F49=120,1,0)","v":0}]
["2.19",{"$f":"IF(test!B50=1,1,0)","v":0},{"$f":"IF(test!C50=20,1,0)","v":0},{"$f":"IF(test!D50=4,1,0)","v":0},{"$f":"IF(test!E50=21,1,0)","v":0},{"$f":"IF(test!F50=189,1,0)","v":0}]
["2.20",{"$f":"IF(test!B51=9,1,0)","v":0},{"$f":"IF(test!C51=9,1,0)","v":0},{"$f":"IF(test!D51=9,1,0)","v":0},{"$f":"IF(test!E51=9,1,0)","v":0},{"$f":"IF(test!F51=9,1,0)","v":0}]
["2.21",{"$f":"IF(test!B52=4,1,0)","v":0},{"$f":"IF(test!C52=9,1,0)","v":0},{"$f":"IF(test!D52=6,1,0)","v":0},{"$f":"IF(test!E52=5,1,0)","v":0},{"$f":"IF(test!F52=15,1,0)","v":0}]
["2.22",{"$f":"IF(test!B53=16,1,0)","v":0},{"$f":"IF(test!C53=1,1,0)","v":0},{"$f":"IF(test!D53=11,1,0)","v":0},{"$f":"IF(test!E53=9,1,0)","v":0},{"$f":"IF(test!F53=22,1,0)","v":0}]
["2.23",{"$f":"IF(test!B54=4,1,0)","v":0},{"$f":"IF(test!C54=17,1,0)","v":0},{"$f":"IF(test!D54=68,1,0)","v":0},{"$f":"IF(test!E54=51,1,0)","v":0},{"$f":"IF(test!F54=136,1,0)","v":0}]
["2.24",{"$f":"IF(test!B55=4,1,0)","v":0},{"$f":"IF(test!C55=60,1,0)","v":0},{"$f":"IF(test!D55=9,1,0)","v":0},{"$f":"IF(test!E55=9,1,0)","v":0},{"$f":"IF(test!F55=120,1,0)","v":0}]
["2.25",{"$f":"IF(test!B56=2,1,0)","v":0},{"$f":"IF(test!C56=52,1,0)","v":0},{"$f":"IF(test!D56=52,1,0)","v":0},{"$f":"IF(test!E56=9,1,0)","v":0},{"$f":"IF(test!F56=9,1,0)","v":0}]
["2.26",{"$f":"IF(test!B57=4,1,0)","v":0},{"$f":"IF(test!C57=6,1,0)","v":0},{"$f":"IF(test!D57=4,1,0)","v":0},{"$f":"IF(test!E57=4,1,0)","v":0},{"$f":"IF(test!F57=6,1,0)","v":0}]
["2.27",{"$f":"IF(test!B58=1,1,0)","v":0},{"$f":"IF(test!C58=4,1,0)","v":0},{"$f":"IF(test!D58=210,1,0)","v":0},{"$f":"IF(test!E58=315,1,0)","v":0},{"$f":"IF(test!F58=4,1,0)","v":0}]
[]
["3.1",{"$f":"IF(test!B60=8,1,0)","v":0},{"$f":"IF(test!C60=1,1,0)","v":0},{"$f":"IF(test!D60=8,1,0)","v":0},{"$f":"IF(test!E60=8,1,0)","v":0},{"$f":"IF(test!F60=6,1,0)","v":0}]
["3.2",{"$f":"IF(test!B61=1,1,0)","v":0},{"$f":"IF(test!C61=1,1,0)","v":0},{"$f":"IF(test!D61=8,1,0)","v":0},{"$f":"IF(test!E61=9,1,0)","v":0},{"$f":"IF(test!F61=9,1,0)","v":0}]
["3.3",{"$f":"IF(test!B62=1,1,0)","v":0},{"$f":"IF(test!C62=12,1,0)","v":0},{"$f":"IF(test!D62=8,1,0)","v":0},{"$f":"IF(test!E62=8,1,0)","v":0},{"$f":"IF(test!F62=2,1,0)","v":0}]
["3.4",{"$f":"IF(test!B63=1,1,0)","v":0},{"$f":"IF(test!C63=1,1,0)","v":0},{"$f":"IF(test!D63=10,1,0)","v":0},{"$f":"IF(test!E63=8,1,0)","v":0},{"$f":"IF(test!F63=27,1,0)","v":0}]
["3.5",{"$f":"IF(test!B64=8,1,0)","v":0},{"$f":"IF(test!C64=1,1,0)","v":0},{"$f":"IF(test!D64=8,1,0)","v":0},{"$f":"IF(test!E64=3,1,0)","v":0},{"$f":"IF(test!F64=3,1,0)","v":0}]
["3.6",{"$f":"IF(test!B65=8,1,0)","v":0},{"$f":"IF(test!C65=1,1,0)","v":0},{"$f":"IF(test!D65=1,1,0)","v":0},{"$f":"IF(test!E65=16,1,0)","v":0},{"$f":"IF(test!F65=2,1,0)","v":0}]
["3.7",{"$f":"IF(test!B66=1,1,0)","v":0},{"$f":"IF(test!C66=1,1,0)","v":0},{"$f":"IF(test!D66=18,1,0)","v":0},{"$f":"IF(test!E66=27,1,0)","v":0},{"$f":"IF(test!F66=3,1,0)","v":0}]
["3.8",{"$f":"IF(test!B67=8,1,0)","v":0},{"$f":"IF(test!C67=1,1,0)","v":0},{"$f":"IF(test!D67=8,1,0)","v":0},{"$f":"IF(test!E67=9,1,0)","v":0},{"$f":"IF(test!F67=9,1,0)","v":0}]
["3.9",{"$f":"IF(test!B68=1,1,0)","v":0},{"$f":"IF(test!C68=17,1,0)","v":0},{"$f":"IF(test!D68=8,1,0)","v":0},{"$f":"IF(test!E68=8,1,0)","v":0},{"$f":"IF(test!F68=27,1,0)","v":0}]
["3.10",{"$f":"IF(test!B69=8,1,0)","v":0},{"$f":"IF(test!C69=1,1,0)","v":0},{"$f":"IF(test!D69=1,1,0)","v":0},{"$f":"IF(test!E69=8,1,0)","v":0},{"$f":"IF(test!F69=32,1,0)","v":0}]
["3.11",{"$f":"IF(test!B70=8,1,0)","v":0},{"$f":"IF(test!C70=1,1,0)","v":0},{"$f":"IF(test!D70=8,1,0)","v":0},{"$f":"IF(test!E70=16,1,0)","v":0},{"$f":"IF(test!F70=16,1,0)","v":0}]
["3.12",{"$f":"IF(test!B71=4,1,0)","v":0},{"$f":"IF(test!C71=1,1,0)","v":0},{"$f":"IF(test!D71=4,1,0)","v":0},{"$f":"IF(test!E71=72,1,0)","v":0},{"$f":"IF(test!F71=1,1,0)","v":0}]
[]
["4.1",{"$f":"IF(test!B73=2,1,0)","v":0},{"$f":"IF(test!C73=4,1,0)","v":0},{"$f":"IF(test!D73=96,1,0)","v":0},{"$f":"IF(test!E73=96,1,0)","v":0},{"$f":"IF(test!F73=48,1,0)","v":0}]
["4.2",{"$f":"IF(test!B74=12,1,0)","v":0},{"$f":"IF(test!C74=54,1,0)","v":0},{"$f":"IF(test!D74=24,1,0)","v":0},{"$f":"IF(test!E74=42,1,0)","v":0},{"$f":"IF(test!F74=24,1,0)","v":0}]
["4.3",{"$f":"IF(test!B75=2,1,0)","v":0},{"$f":"IF(test!C75=6,1,0)","v":0},{"$f":"IF(test!D75=24,1,0)","v":0},{"$f":"IF(test!E75=8,1,0)","v":0},{"$f":"IF(test!F75=40,1,0)","v":0}]
["4.4",{"$f":"IF(test!B76= 8,1,0)","v":0},{"$f":"IF(test!C76=2,1,0)","v":0},{"$f":"IF(test!D76=6,1,0)","v":0},{"$f":"IF(test!E76=18,1,0)","v":0},{"$f":"IF(test!F76=8,1,0)","v":0}]
["4.5",{"$f":"IF(test!B77=27,1,0)","v":0},{"$f":"IF(test!C77=12,1,0)","v":0},{"$f":"IF(test!D77=3,1,0)","v":0},{"$f":"IF(test!E77=3,1,0)","v":0},{"$f":"IF(test!F77=9,1,0)","v":0}]
["4.6",{"$f":"IF(test!B78=2,1,0)","v":0},{"$f":"IF(test!C78=48,1,0)","v":0},{"$f":"IF(test!D78=48,1,0)","v":0},{"$f":"IF(test!E78=24,1,0)","v":0},{"$f":"IF(test!F78=24,1,0)","v":0}]
["4.7",{"$f":"IF(test!B79=2,1,0)","v":0},{"$f":"IF(test!C79=4,1,0)","v":0},{"$f":"IF(test!D79=98,1,0)","v":0},{"$f":"IF(test!E79=98,1,0)","v":0},{"$f":"IF(test!F79=49,1,0)","v":0}]
["4.8",{"$f":"IF(test!B80=432,1,0)","v":0},{"$f":"IF(test!C80=48,1,0)","v":0},{"$f":"IF(test!D80=192,1,0)","v":0},{"$f":"IF(test!E80=336,1,0)","v":0},{"$f":"IF(test!F80=144,1,0)","v":0}]
["4.9",{"$f":"IF(test!B87=1,1,0)","v":0},{"$f":"IF(test!C87=3,1,0)","v":0},{"$f":"IF(test!D87=15,1,0)","v":0},{"$f":"IF(test!E87=60,1,0)","v":0},{"$f":"IF(test!F87=30,1,0)","v":0}]
["4.10",{"$f":"IF(test!B82=48,1,0)","v":0},{"$f":"IF(test!C82=108,1,0)","v":0},{"$f":"IF(test!D82=84,1,0)","v":0},{"$f":"IF(test!E82=4,1,0)","v":0},{"$f":"IF(test!F82=5,1,0)","v":0}]
["4.11",{"$f":"IF(test!B83=12,1,0)","v":0},{"$f":"IF(test!C83=4,1,0)","v":0},{"$f":"IF(test!D83=5,1,0)","v":0},{"$f":"IF(test!E83=54,1,0)","v":0},{"$f":"IF(test!F83=42,1,0)","v":0}]
["4.12",{"$f":"IF(test!B84=2,1,0)","v":0},{"$f":"IF(test!C84=4,1,0)","v":0},{"$f":"IF(test!D84=190,1,0)","v":0},{"$f":"IF(test!E84=190,1,0)","v":0},{"$f":"IF(test!F84=95,1,0)","v":0}]
["4.13",{"$f":"IF(test!B85=1,1,0)","v":0},{"$f":"IF(test!C85=2,1,0)","v":0},{"$f":"IF(test!D85=9,1,0)","v":0},{"$f":"IF(test!E85=216,1,0)","v":0},{"$f":"IF(test!F85=24,1,0)","v":0}]
["4.14",{"$f":"IF(test!B86=4,1,0)","v":0},{"$f":"IF(test!C86=2,1,0)","v":0},{"$f":"IF(test!D86=240,1,0)","v":0},{"$f":"IF(test!E86=2,1,0)","v":0},{"$f":"IF(test!F86=240,1,0)","v":0}]
["4.15",{"$f":"IF(test!B87=1,1,0)","v":0},{"$f":"IF(test!C87=3,1,0)","v":0},{"$f":"IF(test!D87=15,1,0)","v":0},{"$f":"IF(test!E87=60,1,0)","v":0},{"$f":"IF(test!F87=30,1,0)","v":0}]
["4.16",{"$f":"IF(test!B88=2,1,0)","v":0},{"$f":"IF(test!C88=4,1,0)","v":0},{"$f":"IF(test!D88=48,1,0)","v":0},{"$f":"IF(test!E88=24,1,0)","v":0},{"$f":"IF(test!F88=48,1,0)","v":0}]
["4.17",{"$f":"IF(test!B89=1,1,0)","v":0},{"$f":"IF(test!C89=9,1,0)","v":0},{"$f":"IF(test!D89=81,1,0)","v":0},{"$f":"IF(test!E89=54,1,0)","v":0},{"$f":"IF(test!F89=9,1,0)","v":0}]
["4.18",{"$f":"IF(test!B90=3,1,0)","v":0},{"$f":"IF(test!C90=4,1,0)","v":0},{"$f":"IF(test!D90=54,1,0)","v":0},{"$f":"IF(test!E90=108,1,0)","v":0},{"$f":"IF(test!F90=54,1,0)","v":0}]
["4.19",{"$f":"IF(test!B91=24,1,0)","v":0},{"$f":"IF(test!C91=9,1,0)","v":0},{"$f":"IF(test!D91=72,1,0)","v":0},{"$f":"IF(test!E91=32,1,0)","v":0},{"$f":"IF(test!F91=56,1,0)","v":0}]
[]
["5.1",{"$f":"IF(test!B93=3,1,0)","v":0},{"$f":"IF(test!C93=4,1,0)","v":0},{"$f":"IF(test!D93=48,1,0)","v":0},{"$f":"IF(test!E93=24,1,0)","v":0},{"$f":"IF(test!F93=24,1,0)","v":0}]
["5.2",{"$f":"IF(test!B94=8,1,0)","v":0},{"$f":"IF(test!C94=6,1,0)","v":0},{"$f":"IF(test!D94=72,1,0)","v":0},{"$f":"IF(test!E94=24,1,0)","v":0},{"$f":"IF(test!F94=24,1,0)","v":0}]
["5.3",{"$f":"IF(test!B95=1,1,0)","v":0},{"$f":"IF(test!C95=4,1,0)","v":0},{"$f":"IF(test!D95=48,1,0)","v":0},{"$f":"IF(test!E95=24,1,0)","v":0},{"$f":"IF(test!F95=24,1,0)","v":0}]
["5.4",{"$f":"IF(test!B96=24,1,0)","v":0},{"$f":"IF(test!C96=3,1,0)","v":0},{"$f":"IF(test!D96=96,1,0)","v":0},{"$f":"IF(test!E96=24,1,0)","v":0},{"$f":"IF(test!F96=8,1,0)","v":0}]
["5.5",{"$f":"IF(test!B97=18,1,0)","v":0},{"$f":"IF(test!C97=2,1,0)","v":0},{"$f":"IF(test!D97=36,1,0)","v":0},{"$f":"IF(test!E97=156,1,0)","v":0},{"$f":"IF(test!F97=24,1,0)","v":0}]
["5.6",{"$f":"IF(test!B98=2,1,0)","v":0},{"$f":"IF(test!C98=2,1,0)","v":0},{"$f":"IF(test!D98=4,1,0)","v":0},{"$f":"IF(test!E98=14,1,0)","v":0},{"$f":"IF(test!F98=42,1,0)","v":0}]
["5.7",{"$f":"IF(test!B99=4,1,0)","v":0},{"$f":"IF(test!C99=2,1,0)","v":0},{"$f":"IF(test!D99=16,1,0)","v":0},{"$f":"IF(test!E99=48,1,0)","v":0},{"$f":"IF(test!F99=16,1,0)","v":0}]
["5.8",{"$f":"IF(test!B100=2,1,0)","v":0},{"$f":"IF(test!C100=4,1,0)","v":0},{"$f":"IF(test!D100=8,1,0)","v":0},{"$f":"IF(test!E100=4,1,0)","v":0},{"$f":"IF(test!F100=8,1,0)","v":0}]
["5.9",{"$f":"IF(test!B101=10,1,0)","v":0},{"$f":"IF(test!C101=7,1,0)","v":0},{"$f":"IF(test!D101=2,1,0)","v":0},{"$f":"IF(test!E101=91,1,0)","v":0},{"$f":"IF(test!F101=21,1,0)","v":0}]
["5.10",{"$f":"IF(test!B102=4,1,0)","v":0},{"$f":"IF(test!C102=2,1,0)","v":0},{"$f":"IF(test!D102=12,1,0)","v":0},{"$f":"IF(test!E102=12,1,0)","v":0},{"$f":"IF(test!F102=6,1,0)","v":0}]
["5.11",{"$f":"IF(test!B103=18,1,0)","v":0},{"$f":"IF(test!C103=3,1,0)","v":0},{"$f":"IF(test!D103=192,1,0)","v":0},{"$f":"IF(test!E103=48,1,0)","v":0},{"$f":"IF(test!F103=16,1,0)","v":0}]
["5.12",{"$f":"IF(test!B104=3,1,0)","v":0},{"$f":"IF(test!C104=4,1,0)","v":0},{"$f":"IF(test!D104=18,1,0)","v":0},{"$f":"IF(test!E104=9,1,0)","v":0},{"$f":"IF(test!F104=9,1,0)","v":0}]
["5.13",{"$f":"IF(test!B105=1,1,0)","v":0},{"$f":"IF(test!C105=4,1,0)","v":0},{"$f":"IF(test!D105=24,1,0)","v":0},{"$f":"IF(test!E105=12,1,0)","v":0},{"$f":"IF(test!F105=6,1,0)","v":0}]
["5.14",{"$f":"IF(test!B106=24,1,0)","v":0},{"$f":"IF(test!C106=3,1,0)","v":0},{"$f":"IF(test!D106=9,1,0)","v":0},{"$f":"IF(test!E106=144,1,0)","v":0},{"$f":"IF(test!F106=36,1,0)","v":0}]
["5.15",{"$f":"IF(test!B107=3,1,0)","v":0},{"$f":"IF(test!C107=6,1,0)","v":0},{"$f":"IF(test!D107=384,1,0)","v":0},{"$f":"IF(test!E107=288,1,0)","v":0},{"$f":"IF(test!F107=96,1,0)","v":0}]
["5.16",{"$f":"IF(test!B108=3,1,0)","v":0},{"$f":"IF(test!C108=4,1,0)","v":0},{"$f":"IF(test!D108=192,1,0)","v":0},{"$f":"IF(test!E108=96,1,0)","v":0},{"$f":"IF(test!F108=96,1,0)","v":0}]
["5.17",{"$f":"IF(test!B109=23,1,0)","v":0},{"$f":"IF(test!C109=3,1,0)","v":0},{"$f":"IF(test!D109=24,1,0)","v":0},{"$f":"IF(test!E109=96,1,0)","v":0},{"$f":"IF(test!F109=8,1,0)","v":0}]
["5.18",{"$f":"IF(test!B110=2,1,0)","v":0},{"$f":"IF(test!C110=2,1,0)","v":0},{"$f":"IF(test!D110=16,1,0)","v":0},{"$f":"IF(test!E110=16,1,0)","v":0},{"$f":"IF(test!F110=16,1,0)","v":0}]
[]
["6.1",{"$f":"IF(test!B112=108,1,0)","v":0},{"$f":"IF(test!C112=108,1,0)","v":0},{"$f":"IF(test!D112=72,1,0)","v":0},{"$f":"IF(test!E112=12,1,0)","v":0},{"$f":"IF(test!F112=12,1,0)","v":0}]
["6.2",{"$f":"IF(test!B113=4,1,0)","v":0},{"$f":"IF(test!C113=20,1,0)","v":0},{"$f":"IF(test!D113=20,1,0)","v":0},{"$f":"IF(test!E113=3,1,0)","v":0},{"$f":"IF(test!F113=40,1,0)","v":0}]
["6.3",{"$f":"IF(test!B114=3,1,0)","v":0},{"$f":"IF(test!C114=54,1,0)","v":0},{"$f":"IF(test!D114=6,1,0)","v":0},{"$f":"IF(test!E114=6,1,0)","v":0},{"$f":"IF(test!F114=2,1,0)","v":0}]
["6.4",{"$f":"IF(test!B115=122,1,0)","v":0},{"$f":"IF(test!C115=40,1,0)","v":0},{"$f":"IF(test!D115=160,1,0)","v":0},{"$f":"IF(test!E115=2,1,0)","v":0},{"$f":"IF(test!E115=2,1,0)","v":0}]
["6.5",{"$f":"IF(test!B116=23,1,0)","v":0},{"$f":"IF(test!C116=5,1,0)","v":0},{"$f":"IF(test!D116=100,1,0)","v":0},{"$f":"IF(test!E116=80,1,0)","v":0},{"$f":"IF(test!F116=100,1,0)","v":0}]
["6.6",{"$f":"IF(test!B117=40,1,0)","v":0},{"$f":"IF(test!C117=9,1,0)","v":0},{"$f":"IF(test!D117=5,1,0)","v":0},{"$f":"IF(test!E117=20,1,0)","v":0},{"$f":"IF(test!F117=20,1,0)","v":0}]
["6.7",{"$f":"IF(test!B118=69,1,0)","v":0},{"$f":"IF(test!C118=7,1,0)","v":0},{"$f":"IF(test!D118=69,1,0)","v":0},{"$f":"IF(test!E118=24,1,0)","v":0},{"$f":"IF(test!F118=8,1,0)","v":0}]
["6.8",{"$f":"IF(test!B119=14,1,0)","v":0},{"$f":"IF(test!C119=5,1,0)","v":0},{"$f":"IF(test!D119=17,1,0)","v":0},{"$f":"IF(test!E119=240,1,0)","v":0},{"$f":"IF(test!F119=11,1,0)","v":0}]
["6.9",{"$f":"IF(test!B120=16,1,0)","v":0},{"$f":"IF(test!C120=16,1,0)","v":0},{"$f":"IF(test!D120=5,1,0)","v":0},{"$f":"IF(test!E120=480,1,0)","v":0},{"$f":"IF(test!F120=400,1,0)","v":0}]
["6.10",{"$f":"IF(test!B121=140,1,0)","v":0},{"$f":"IF(test!C121=165,1,0)","v":0},{"$f":"IF(test!D121=140,1,0)","v":0},{"$f":"IF(test!E121=140,1,0)","v":0},{"$f":"IF(test!F121=90,1,0)","v":0}]
["6.11",{"$f":"IF(test!B122=2.4,1,0)","v":0},{"$f":"IF(test!C122=2.59,1,0)","v":0},{"$f":"IF(test!D122=1.58,1,0)","v":0},{"$f":"IF(test!E122=2.9,1,0)","v":0},{"$f":"IF(test!F122=0,1,0)","v":1}]
["6.12",{"$f":"IF(test!B123=20,1,0)","v":0},{"$f":"IF(test!C123=9,1,0)","v":0},{"$f":"IF(test!D123=5,1,0)","v":0},{"$f":"IF(test!E123=2,1,0)","v":0},{"$f":"IF(test!F123=4,1,0)","v":0}]
["6.13",{"$f":"IF(test!B124=4,1,0)","v":0},{"$f":"IF(test!C124=120,1,0)","v":0},{"$f":"IF(test!D124=14,1,0)","v":0},{"$f":"IF(test!E124=2,1,0)","v":0},{"$f":"IF(test!F124=8,1,0)","v":0}]
["6.14",{"$f":"IF(test!B125=69,1,0)","v":0},{"$f":"IF(test!C125=4,1,0)","v":0},{"$f":"IF(test!D125=4,1,0)","v":0},{"$f":"IF(test!E125=5,1,0)","v":0},{"$f":"IF(test!F125=5,1,0)","v":0}]
["6.15",{"$f":"IF(test!B126=30,1,0)","v":0},{"$f":"IF(test!C126=7,1,0)","v":0},{"$f":"IF(test!D126=20,1,0)","v":0},{"$f":"IF(test!E126=22,1,0)","v":0},{"$f":"IF(test!F126=1,1,0)","v":0}]
["6.16",{"$f":"IF(test!B127=190,1,0)","v":0},{"$f":"IF(test!C127=190,1,0)","v":0},{"$f":"IF(test!D127=30,1,0)","v":0},{"$f":"IF(test!E127=36,1,0)","v":0},{"$f":"IF(test!F127=5,1,0)","v":0}]
["6.17",{"$f":"IF(test!B128=14,1,0)","v":0},{"$f":"IF(test!C128=8,1,0)","v":0},{"$f":"IF(test!D128=3,1,0)","v":0},{"$f":"IF(test!E128=8,1,0)","v":0},{"$f":"IF(test!F128=16,1,0)","v":0}]
["6.18",{"$f":"IF(test!B129=20,1,0)","v":0},{"$f":"IF(test!C129=8,1,0)","v":0},{"$f":"IF(test!D129=12,1,0)","v":0},{"$f":"IF(test!E129=8,1,0)","v":0},{"$f":"IF(test!F129=18,1,0)","v":0}]
[]
["7.1",{"$f":"IF(test!B131=2,1,0)","v":0},{"$f":"IF(test!C131=60,1,0)","v":0},{"$f":"IF(test!D131=60,1,0)","v":0},{"$f":"IF(test!E131=2,1,0)","v":0},{"$f":"IF(test!F131=2,1,0)","v":0}]
["7.2",{"$f":"IF(test!B132=2,1,0)","v":0},{"$f":"IF(test!C132=3,1,0)","v":0},{"$f":"IF(test!D132=3,1,0)","v":0},{"$f":"IF(test!E132=240,1,0)","v":0},{"$f":"IF(test!F132=120,1,0)","v":0}]
["7.3",{"$f":"IF(test!B133=118,1,0)","v":0},{"$f":"IF(test!C133=2,1,0)","v":0},{"$f":"IF(test!D133=3,1,0)","v":0},{"$f":"IF(test!E133=281,1,0)","v":0},{"$f":"IF(test!F133=2,1,0)","v":0}]
["7.4",{"$f":"IF(test!B134=2,1,0)","v":0},{"$f":"IF(test!C134=120,1,0)","v":0},{"$f":"IF(test!D134=3,1,0)","v":0},{"$f":"IF(test!E134=2,1,0)","v":0},{"$f":"IF(test!F134=150,1,0)","v":0}]
["7.5",{"$f":"IF(test!B135=1,1,0)","v":0},{"$f":"IF(test!C135=112,1,0)","v":0},{"$f":"IF(test!D135=3,1,0)","v":0},{"$f":"IF(test!E135=286,1,0)","v":0},{"$f":"IF(test!F135=143,1,0)","v":0}]
["7.6",{"$f":"IF(test!B136=2,1,0)","v":0},{"$f":"IF(test!C136=160,1,0)","v":0},{"$f":"IF(test!D136=3,1,0)","v":0},{"$f":"IF(test!E136=480,1,0)","v":0},{"$f":"IF(test!F136=480,1,0)","v":0}]
["7.7",{"$f":"IF(test!B137=2,1,0)","v":0},{"$f":"IF(test!C137=2,1,0)","v":0},{"$f":"IF(test!D137=312,1,0)","v":0},{"$f":"IF(test!E137=2,1,0)","v":0},{"$f":"IF(test!F137=312,1,0)","v":0}]
["7.8",{"$f":"IF(test!B138=2,1,0)","v":0},{"$f":"IF(test!C138=2,1,0)","v":0},{"$f":"IF(test!D138=50,1,0)","v":0},{"$f":"IF(test!E138=50,1,0)","v":0},{"$f":"IF(test!F138=2,1,0)","v":0}]
["7.9",{"$f":"IF(test!B139=124,1,0)","v":0},{"$f":"IF(test!C139=2,1,0)","v":0},{"$f":"IF(test!D139=3,1,0)","v":0},{"$f":"IF(test!E139=3,1,0)","v":0},{"$f":"IF(test!F139=2,1,0)","v":0}]
["7.10",{"$f":"IF(test!B140=72,1,0)","v":0},{"$f":"IF(test!C140=2,1,0)","v":0},{"$f":"IF(test!D140=2,1,0)","v":0},{"$f":"IF(test!E140=60,1,0)","v":0},{"$f":"IF(test!F140=60,1,0)","v":0}]
["7.11",{"$f":"IF(test!B141=60,1,0)","v":0},{"$f":"IF(test!C141=60,1,0)","v":0},{"$f":"IF(test!D141=120,1,0)","v":0},{"$f":"IF(test!E141=2,1,0)","v":0},{"$f":"IF(test!F141=2,1,0)","v":0}]
["7.12",{"$f":"IF(test!B142=2,1,0)","v":0},{"$f":"IF(test!C142=2,1,0)","v":0},{"$f":"IF(test!D142=2,1,0)","v":0},{"$f":"IF(test!E142=58,1,0)","v":0},{"$f":"IF(test!F142=58,1,0)","v":0}]
["7.13",{"$f":"IF(test!B143=2,1,0)","v":0},{"$f":"IF(test!C143=12,1,0)","v":0},{"$f":"IF(test!D143=2,1,0)","v":0},{"$f":"IF(test!E143=21,1,0)","v":0},{"$f":"IF(test!F143=21,1,0)","v":0}]
["7.14",{"$f":"IF(test!B144=2,1,0)","v":0},{"$f":"IF(test!C144=18,1,0)","v":0},{"$f":"IF(test!D144=3,1,0)","v":0},{"$f":"IF(test!E144=147,1,0)","v":0},{"$f":"IF(test!F144=49,1,0)","v":0}]
["7.15",{"$f":"IF(test!B145=2,1,0)","v":0},{"$f":"IF(test!C145=18,1,0)","v":0},{"$f":"IF(test!D145=3,1,0)","v":0},{"$f":"IF(test!E145=72,1,0)","v":0},{"$f":"IF(test!F145=144,1,0)","v":0}]
["7.16",{"$f":"IF(test!B146=2,1,0)","v":0},{"$f":"IF(test!C146=18,1,0)","v":0},{"$f":"IF(test!D146=3,1,0)","v":0},{"$f":"IF(test!E146=147,1,0)","v":0},{"$f":"IF(test!F146=49,1,0)","v":0}]
["7.17",{"$f":"IF(test!B147=2,1,0)","v":0},{"$f":"IF(test!C147=18,1,0)","v":0},{"$f":"IF(test!D147=130,1,0)","v":0},{"$f":"IF(test!E147=310,1,0)","v":0},{"$f":"IF(test!F147=3,1,0)","v":0}]
["7.18",{"$f":"IF(test!B148=8,1,0)","v":0},{"$f":"IF(test!C148=2,1,0)","v":0},{"$f":"IF(test!D148=2,1,0)","v":0},{"$f":"IF(test!E148=18,1,0)","v":0},{"$f":"IF(test!F148=36,1,0)","v":0}]
["7.19",{"$f":"IF(test!B149=2,1,0)","v":0},{"$f":"IF(test!C149=0,1,0)","v":1},{"$f":"IF(test!D149=28,1,0)","v":0},{"$f":"IF(test!E149=2,1,0)","v":0},{"$f":"IF(test!F149=2,1,0)","v":0}]
["7.20",{"$f":"IF(test!B150=2,1,0)","v":0},{"$f":"IF(test!C150=2,1,0)","v":0},{"$f":"IF(test!D150=2,1,0)","v":0},{"$f":"IF(test!E150=14,1,0)","v":0},{"$f":"IF(test!F150=14,1,0)","v":0}]
["7.21",{"$f":"IF(test!B151=2,1,0)","v":0},{"$f":"IF(test!C151=0,1,0)","v":1},{"$f":"IF(test!D151=98,1,0)","v":0},{"$f":"IF(test!E151=2,1,0)","v":0},{"$f":"IF(test!F151=2,1,0)","v":0}]
["7.22",{"$f":"IF(test!B152=2,1,0)","v":0},{"$f":"IF(test!C152=3,1,0)","v":0},{"$f":"IF(test!D152=3,1,0)","v":0},{"$f":"IF(test!E152=28,1,0)","v":0},{"$f":"IF(test!F152=28,1,0)","v":0}]
["7.23",{"$f":"IF(test!B153=0,1,0)","v":1},{"$f":"IF(test!C153=2,1,0)","v":0},{"$f":"IF(test!D153=2,1,0)","v":0},{"$f":"IF(test!E153=0,1,0)","v":1},{"$f":"IF(test!F153=28,1,0)","v":0}]
["7.24",{"$f":"IF(test!B154=2,1,0)","v":0},{"$f":"IF(test!C154=1,1,0)","v":0},{"$f":"IF(test!D154=338,1,0)","v":0},{"$f":"IF(test!E154=2,1,0)","v":0},{"$f":"IF(test!F154=338,1,0)","v":0}]
["7.25",{"$f":"IF(test!B155=2,1,0)","v":0},{"$f":"IF(test!C155=12,1,0)","v":0},{"$f":"IF(test!D155=3,1,0)","v":0},{"$f":"IF(test!E155=2,1,0)","v":0},{"$f":"IF(test!F155=221,1,0)","v":0}]
["7.26",{"$f":"IF(test!B156=2,1,0)","v":0},{"$f":"IF(test!C156=2,1,0)","v":0},{"$f":"IF(test!D156=2,1,0)","v":0},{"$f":"IF(test!E156=48,1,0)","v":0},{"$f":"IF(test!F156=48,1,0)","v":0}]
["7.27",{"$f":"IF(test!B157=10,1,0)","v":0},{"$f":"IF(test!C157=2,1,0)","v":0},{"$f":"IF(test!D157=3,1,0)","v":0},{"$f":"IF(test!E157=2,1,0)","v":0},{"$f":"IF(test!F157=37,1,0)","v":0}]
["7.28",{"$f":"IF(test!B158=2,1,0)","v":0},{"$f":"IF(test!C158=19,1,0)","v":0},{"$f":"IF(test!D158=15,1,0)","v":0},{"$f":"IF(test!E158=210,1,0)","v":0},{"$f":"IF(test!F158=3,1,0)","v":0}]
[]
["8.1",{"$f":"IF(test!B160=82,1,0)","v":0},{"$f":"IF(test!C160=4,1,0)","v":0},{"$f":"IF(test!D160=4,1,0)","v":0},{"$f":"IF(test!E160=9,1,0)","v":0},{"$f":"IF(test!F160=18,1,0)","v":0}]
["8.2",{"$f":"IF(test!B161=116,1,0)","v":0},{"$f":"IF(test!C161=46,1,0)","v":0},{"$f":"IF(test!D161=4,1,0)","v":0},{"$f":"IF(test!E161=4,1,0)","v":0},{"$f":"IF(test!F161=13,1,0)","v":0}]
["8.3",{"$f":"IF(test!B162=364,1,0)","v":0},{"$f":"IF(test!C162=46,1,0)","v":0},{"$f":"IF(test!D162=5,1,0)","v":0},{"$f":"IF(test!E162=5,1,0)","v":0},{"$f":"IF(test!F162=9,1,0)","v":0}]
["8.4",{"$f":"IF(test!B163=672,1,0)","v":0},{"$f":"IF(test!C163=42,1,0)","v":0},{"$f":"IF(test!D163=42,1,0)","v":0},{"$f":"IF(test!E163=8,1,0)","v":0},{"$f":"IF(test!F163=16,1,0)","v":0}]
["8.5",{"$f":"IF(test!B164=16,1,0)","v":0},{"$f":"IF(test!C164=384,1,0)","v":0},{"$f":"IF(test!D164=2,1,0)","v":0},{"$f":"IF(test!E164=2,1,0)","v":0},{"$f":"IF(test!F164=2,1,0)","v":0}]
["8.6",{"$f":"IF(test!B165=41,1,0)","v":0},{"$f":"IF(test!C165=4,1,0)","v":0},{"$f":"IF(test!D165=4,1,0)","v":0},{"$f":"IF(test!E165=918,1,0)","v":0},{"$f":"IF(test!F165=8,1,0)","v":0}]
["8.7",{"$f":"IF(test!B166=27,1,0)","v":0},{"$f":"IF(test!C166=27,1,0)","v":0},{"$f":"IF(test!D166=94,1,0)","v":0},{"$f":"IF(test!E166=3,1,0)","v":0},{"$f":"IF(test!F166=6,1,0)","v":0}]
["8.8",{"$f":"IF(test!B167=124,1,0)","v":0},{"$f":"IF(test!C167=210,1,0)","v":0},{"$f":"IF(test!D167=24,1,0)","v":0},{"$f":"IF(test!E167=4,1,0)","v":0},{"$f":"IF(test!F167=10,1,0)","v":0}]
["8.9",{"$f":"IF(test!B168=16,1,0)","v":0},{"$f":"IF(test!C168=17,1,0)","v":0},{"$f":"IF(test!D168=4,1,0)","v":0},{"$f":"IF(test!E168=4,1,0)","v":0},{"$f":"IF(test!F168=27,1,0)","v":0}]
["8.10",{"$f":"IF(test!B169=10,1,0)","v":0},{"$f":"IF(test!C169=60,1,0)","v":0},{"$f":"IF(test!D169=24,1,0)","v":0},{"$f":"IF(test!E169=24,1,0)","v":0},{"$f":"IF(test!F169=40,1,0)","v":0}]
["8.11",{"$f":"IF(test!B170=246,1,0)","v":0},{"$f":"IF(test!C170=246,1,0)","v":0},{"$f":"IF(test!D170=20,1,0)","v":0},{"$f":"IF(test!E170=20,1,0)","v":0},{"$f":"IF(test!F170=40,1,0)","v":0}]
["8.12",{"$f":"IF(test!B171=48.3,1,0)","v":0},{"$f":"IF(test!C171=48.3,1,0)","v":0},{"$f":"IF(test!D171=1.7,1,0)","v":0},{"$f":"IF(test!E171=1.7,1,0)","v":0},{"$f":"IF(test!F171=3.4,1,0)","v":0}]
["8.13",{"$f":"IF(test!B172=15,1,0)","v":0},{"$f":"IF(test!C172=74,1,0)","v":0},{"$f":"IF(test!D172=4,1,0)","v":0},{"$f":"IF(test!E172=4,1,0)","v":0},{"$f":"IF(test!F172=33.6,1,0)","v":0}]
["8.14",{"$f":"IF(test!B173=18,1,0)","v":0},{"$f":"IF(test!C173=161,1,0)","v":0},{"$f":"IF(test!D173=49,1,0)","v":0},{"$f":"IF(test!E173=49,1,0)","v":0},{"$f":"IF(test!F173=23,1,0)","v":0}]
["8.15",{"$f":"IF(test!B174=18,1,0)","v":0},{"$f":"IF(test!C174=43.8,1,0)","v":0},{"$f":"IF(test!D174=6.2,1,0)","v":0},{"$f":"IF(test!E174=6.2,1,0)","v":0},{"$f":"IF(test!F174=12.4,1,0)","v":0}]
["8.16",{"$f":"IF(test!B175=672,1,0)","v":0},{"$f":"IF(test!C175=8,1,0)","v":0},{"$f":"IF(test!D175=8,1,0)","v":0},{"$f":"IF(test!E175=42,1,0)","v":0},{"$f":"IF(test!F175=16,1,0)","v":0}]
["8.17",{"$f":"IF(test!B176=10,1,0)","v":0},{"$f":"IF(test!C176=43,1,0)","v":0},{"$f":"IF(test!D176=7,1,0)","v":0},{"$f":"IF(test!E176=7,1,0)","v":0},{"$f":"IF(test!F176=14,1,0)","v":0}]
["8.18",{"$f":"IF(test!B177=492,1,0)","v":0},{"$f":"IF(test!C177=41,1,0)","v":0},{"$f":"IF(test!D177=41,1,0)","v":0},{"$f":"IF(test!E177=9,1,0)","v":0},{"$f":"IF(test!F177=18,1,0)","v":0}]
["8.19",{"$f":"IF(test!B178=18,1,0)","v":0},{"$f":"IF(test!C178=18,1,0)","v":0},{"$f":"IF(test!D178=2,1,0)","v":0},{"$f":"IF(test!E178=2,1,0)","v":0},{"$f":"IF(test!F178=4,1,0)","v":0}]
["8.20",{"$f":"IF(test!B179=48,1,0)","v":0},{"$f":"IF(test!C179=95,1,0)","v":0},{"$f":"IF(test!D179=2,1,0)","v":0},{"$f":"IF(test!E179=3,1,0)","v":0},{"$f":"IF(test!F179=5,1,0)","v":0}]
["8.21",{"$f":"IF(test!B180=4,1,0)","v":0},{"$f":"IF(test!C180=12,1,0)","v":0},{"$f":"IF(test!D180=150,1,0)","v":0},{"$f":"IF(test!E180=39,1,0)","v":0},{"$f":"IF(test!F180=23,1,0)","v":0}]
["8.22",{"$f":"IF(test!B181=4,1,0)","v":0},{"$f":"IF(test!C181=180,1,0)","v":0},{"$f":"IF(test!D181=40,1,0)","v":0},{"$f":"IF(test!E181=180,1,0)","v":0},{"$f":"IF(test!F181=45,1,0)","v":0}]
["8.23",{"$f":"IF(test!B182=261,1,0)","v":0},{"$f":"IF(test!C182=261,1,0)","v":0},{"$f":"IF(test!D182=0,1,0)","v":1},{"$f":"IF(test!E182=261,1,0)","v":0},{"$f":"IF(test!F182=58,1,0)","v":0}]
["8.24",{"$f":"IF(test!B183=47.9,1,0)","v":0},{"$f":"IF(test!C183=47.9,1,0)","v":0},{"$f":"IF(test!D183=2.1,1,0)","v":0},{"$f":"IF(test!E183=2.1,1,0)","v":0},{"$f":"IF(test!F183=4.2,1,0)","v":0}]
["8.25",{"$f":"IF(test!B184=63,1,0)","v":0},{"$f":"IF(test!C184=63,1,0)","v":0},{"$f":"IF(test!D184=7,1,0)","v":0},{"$f":"IF(test!E184=7,1,0)","v":0},{"$f":"IF(test!F184=14,1,0)","v":0}]
["8.26",{"$f":"IF(test!B185=45,1,0)","v":0},{"$f":"IF(test!C185=89.7,1,0)","v":0},{"$f":"IF(test!D185=5.7,1,0)","v":0},{"$f":"IF(test!E185=4.6,1,0)","v":0},{"$f":"IF(test!F185=10.3,1,0)","v":0}]
["8.27",{"$f":"IF(test!B186=75.3,1,0)","v":0},{"$f":"IF(test!C186=4,1,0)","v":0},{"$f":"IF(test!D186=307,1,0)","v":0},{"$f":"IF(test!E186=12.3,1,0)","v":0},{"$f":"IF(test!F186=24.7,1,0)","v":0}]
["8.28",{"$f":"IF(test!B187=70,1,0)","v":0},{"$f":"IF(test!C187=430,1,0)","v":0},{"$f":"IF(test!D187=43,1,0)","v":0},{"$f":"IF(test!E187=70,1,0)","v":0},{"$f":"IF(test!F187=7,1,0)","v":0}]
["8.29",{"$f":"IF(test!B188=4,1,0)","v":0},{"$f":"IF(test!C188=11.3,1,0)","v":0},{"$f":"IF(test!D188=38.8,1,0)","v":0},{"$f":"IF(test!E188=38.8,1,0)","v":0},{"$f":"IF(test!F188=22.5,1,0)","v":0}]
["8.30",{"$f":"IF(test!B189=4,1,0)","v":0},{"$f":"IF(test!C189=135,1,0)","v":0},{"$f":"IF(test!D189=30,1,0)","v":0},{"$f":"IF(test!E189=135,1,0)","v":0},{"$f":"IF(test!F189=45,1,0)","v":0}]
["8.31",{"$f":"IF(test!B190=129,1,0)","v":0},{"$f":"IF(test!C190=129,1,0)","v":0},{"$f":"IF(test!D190=21,1,0)","v":0},{"$f":"IF(test!E190=43,1,0)","v":0},{"$f":"IF(test!F190=14,1,0)","v":0}]
["8.32",{"$f":"IF(test!B191=18,1,0)","v":0},{"$f":"IF(test!C191=432,1,0)","v":0},{"$f":"IF(test!D191=43,1,0)","v":0},{"$f":"IF(test!E191=18,1,0)","v":0},{"$f":"IF(test!F191=2,1,0)","v":0}]
["8.33",{"$f":"IF(test!B192=27,1,0)","v":0},{"$f":"IF(test!C192=123,1,0)","v":0},{"$f":"IF(test!D192=41,1,0)","v":0},{"$f":"IF(test!E192=9,1,0)","v":0},{"$f":"IF(test!F192=18,1,0)","v":0}]
["8.34",{"$f":"IF(test!B193=24,1,0)","v":0},{"$f":"IF(test!C193=4.8,1,0)","v":0},{"$f":"IF(test!D193=4.8,1,0)","v":0},{"$f":"IF(test!E193=24,1,0)","v":0},{"$f":"IF(test!F193=9.6,1,0)","v":0}]
["8.35",{"$f":"IF(test!B194=84.2,1,0)","v":0},{"$f":"IF(test!C194=4,1,0)","v":0},{"$f":"IF(test!D194=288,1,0)","v":0},{"$f":"IF(test!E194=42.1,1,0)","v":0},{"$f":"IF(test!F194=15.8,1,0)","v":0}]
["8.36",{"$f":"IF(test!B195=169,1,0)","v":0},{"$f":"IF(test!C195=169,1,0)","v":0},{"$f":"IF(test!D195=31,1,0)","v":0},{"$f":"IF(test!E195=7.8,1,0)","v":0},{"$f":"IF(test!F195=15.5,1,0)","v":0}]
["8.37",{"$f":"IF(test!B196=270,1,0)","v":0},{"$f":"IF(test!C196=380,1,0)","v":0},{"$f":"IF(test!D196=29.3,1,0)","v":0},{"$f":"IF(test!E196=20.8,1,0)","v":0},{"$f":"IF(test!F196=41.5,1,0)","v":0}]
["8.38",{"$f":"IF(test!B197=141,1,0)","v":0},{"$f":"IF(test!C197=10.1,1,0)","v":0},{"$f":"IF(test!D197=39.9,1,0)","v":0},{"$f":"IF(test!E197=141,1,0)","v":0},{"$f":"IF(test!F197=20.1,1,0)","v":0}]
[]
["9.1",{"$f":"IF(test!B199=49,1,0)","v":0},{"$f":"IF(test!C199=16,1,0)","v":0},{"$f":"IF(test!D199=7,1,0)","v":0},{"$f":"IF(test!E199=14,1,0)","v":0},{"$f":"IF(test!F199=30,1,0)","v":0}]
["9.2",{"$f":"IF(test!B200=1.5,1,0)","v":0},{"$f":"IF(test!C200=41,1,0)","v":0},{"$f":"IF(test!D200=3,1,0)","v":0},{"$f":"IF(test!E200=15,1,0)","v":0},{"$f":"IF(test!F200=18,1,0)","v":0}]
["9.3",{"$f":"IF(test!B201=22,1,0)","v":0},{"$f":"IF(test!C201=15,1,0)","v":0},{"$f":"IF(test!D201=3,1,0)","v":0},{"$f":"IF(test!E201=4,1,0)","v":0},{"$f":"IF(test!F201=22,1,0)","v":0}]
["9.4",{"$f":"IF(test!B202=40.2,1,0)","v":0},{"$f":"IF(test!C202=5.3,1,0)","v":0},{"$f":"IF(test!D202=8.9,1,0)","v":0},{"$f":"IF(test!E202=10.7,1,0)","v":0},{"$f":"IF(test!F202=19.6,1,0)","v":0}]
["9.5",{"$f":"IF(test!B203=36,1,0)","v":0},{"$f":"IF(test!C203=2,1,0)","v":0},{"$f":"IF(test!D203=9.6,1,0)","v":0},{"$f":"IF(test!E203=4,1,0)","v":0},{"$f":"IF(test!F203=13.6,1,0)","v":0}]
["9.6",{"$f":"IF(test!B204=37.6,1,0)","v":0},{"$f":"IF(test!C204=11.4,1,0)","v":0},{"$f":"IF(test!D204=22.9,1,0)","v":0},{"$f":"IF(test!E204=3.8,1,0)","v":0},{"$f":"IF(test!F204=26.7,1,0)","v":0}]
["9.7",{"$f":"IF(test!B205=30,1,0)","v":0},{"$f":"IF(test!C205=6,1,0)","v":0},{"$f":"IF(test!D205=17.1,1,0)","v":0},{"$f":"IF(test!E205=12.4,1,0)","v":0},{"$f":"IF(test!F205=47.5,1,0)","v":0}]
["9.8",{"$f":"IF(test!B206=27.2,1,0)","v":0},{"$f":"IF(test!C206=7.2,1,0)","v":0},{"$f":"IF(test!D206=14.4,1,0)","v":0},{"$f":"IF(test!E206=6.4,1,0)","v":0},{"$f":"IF(test!F206=20.8,1,0)","v":0}]
["9.9",{"$f":"IF(test!B207=18,1,0)","v":0},{"$f":"IF(test!C207=22.2,1,0)","v":0},{"$f":"IF(test!D207=46.3,1,0)","v":0},{"$f":"IF(test!E207=7.5,1,0)","v":0},{"$f":"IF(test!F207=7.5,1,0)","v":0}]
["9.10",{"$f":"IF(test!B208=4.2,1,0)","v":0},{"$f":"IF(test!C208=45.4,1,0)","v":0},{"$f":"IF(test!D208=0.9,1,0)","v":0},{"$f":"IF(test!E208=8.3,1,0)","v":0},{"$f":"IF(test!F208=9.2,1,0)","v":0}]
["9.11",{"$f":"IF(test!B209=222,1,0)","v":0},{"$f":"IF(test!C209=222,1,0)","v":0},{"$f":"IF(test!D209=46.3,1,0)","v":0},{"$f":"IF(test!E209=7.5,1,0)","v":0},{"$f":"IF(test!F209=7.5,1,0)","v":0}]
["9.12",{"$f":"IF(test!B210=1.3,1,0)","v":0},{"$f":"IF(test!C210=7.5,1,0)","v":0},{"$f":"IF(test!D210=2.6,1,0)","v":0},{"$f":"IF(test!E210=15,1,0)","v":0},{"$f":"IF(test!F210=17.6,1,0)","v":0}]
["9.13",{"$f":"IF(test!B211=26,1,0)","v":0},{"$f":"IF(test!C211=14,1,0)","v":0},{"$f":"IF(test!D211=4.8,1,0)","v":0},{"$f":"IF(test!E211=7.2,1,0)","v":0},{"$f":"IF(test!F211=26,1,0)","v":0}]
["9.14",{"$f":"IF(test!B212=33,1,0)","v":0},{"$f":"IF(test!C212=10,1,0)","v":0},{"$f":"IF(test!D212=20,1,0)","v":0},{"$f":"IF(test!E212=4,1,0)","v":0},{"$f":"IF(test!F212=24,1,0)","v":0}]
["9.15",{"$f":"IF(test!B213=4.4,1,0)","v":0},{"$f":"IF(test!C213=44.3,1,0)","v":0},{"$f":"IF(test!D213=2.7,1,0)","v":0},{"$f":"IF(test!E213=8.7,1,0)","v":0},{"$f":"IF(test!F213=11.4,1,0)","v":0}]
["9.16",{"$f":"IF(test!B214=34,1,0)","v":0},{"$f":"IF(test!C214=4,1,0)","v":0},{"$f":"IF(test!D214=45,forma!E214,0)","v":0},{"$f":"IF(test!E214=45,1,0)","v":0},{"$f":"IF(test!F214=5,1,0)","v":0}]
["9.17",{"$f":"IF(test!B215=20,1,0)","v":0},{"$f":"IF(test!C215=6,1,0)","v":0},{"$f":"IF(test!D215=17.8,1,0)","v":0},{"$f":"IF(test!E215=12.7,1,0)","v":0},{"$f":"IF(test!F215=32.5,1,0)","v":0}]
["9.18",{"$f":"IF(test!B216=24.7,1,0)","v":0},{"$f":"IF(test!C216=12.7,1,0)","v":0},{"$f":"IF(test!D216=25.3,1,0)","v":0},{"$f":"IF(test!E216=25.3,1,0)","v":0},{"$f":"IF(test!F216=50.6,1,0)","v":0}]
["9.19",{"$f":"IF(test!B217=6,1,0)","v":0},{"$f":"IF(test!C217=3.3,1,0)","v":0},{"$f":"IF(test!D217=6.5,1,0)","v":0},{"$f":"IF(test!E217=5.5,1,0)","v":0},{"$f":"IF(test!F217=12,1,0)","v":0}]
["9.20",{"$f":"IF(test!B218=2.4,1,0)","v":0},{"$f":"IF(test!C218=3.4,1,0)","v":0},{"$f":"IF(test!D218=4.8,1,0)","v":0},{"$f":"IF(test!E218=6.7,1,0)","v":0},{"$f":"IF(test!F218=11.5,1,0)","v":0}]
["9.21",{"$f":"IF(test!B219=35.8,1,0)","v":0},{"$f":"IF(test!C219=5,1,0)","v":0},{"$f":"IF(test!D219=8.4,1,0)","v":0},{"$f":"IF(test!E219=10,1,0)","v":0},{"$f":"IF(test!F219=18.4,1,0)","v":0}]
[]
["10.1",{"$f":"IF(test!B221=2,1,0)","v":0},{"$f":"IF(test!C221=2,1,0)","v":0},{"$f":"IF(test!D221=18,1,0)","v":0},{"$f":"IF(test!E221=9,1,0)","v":0},{"$f":"IF(test!F221=9,1,0)","v":0}]
["10.2",{"$f":"IF(test!B222=70,1,0)","v":0},{"$f":"IF(test!C222=70,1,0)","v":0},{"$f":"IF(test!D222=70,1,0)","v":0},{"$f":"IF(test!E222=96,1,0)","v":0},{"$f":"IF(test!F222=320,1,0)","v":0}]
["10.3",{"$f":"IF(test!B223=180,1,0)","v":0},{"$f":"IF(test!C223=90,1,0)","v":0},{"$f":"IF(test!D223=90,1,0)","v":0},{"$f":"IF(test!E223=5,1,0)","v":0},{"$f":"IF(test!F223=5,1,0)","v":0}]
["10.4",{"$f":"IF(test!B224=1,1,0)","v":0},{"$f":"IF(test!C224=0,1,0)","v":1},{"$f":"IF(test!D224=1,1,0)","v":0},{"$f":"IF(test!E224=2,1,0)","v":0},{"$f":"IF(test!F224=1,1,0)","v":0}]
["10.5",{"$f":"IF(test!B225=2,1,0)","v":0},{"$f":"IF(test!C225=2,1,0)","v":0},{"$f":"IF(test!D225=2,1,0)","v":0},{"$f":"IF(test!E225=6,1,0)","v":0},{"$f":"IF(test!F225=2,1,0)","v":0}]
["10.6",{"$f":"IF(test!B226=18,1,0)","v":0},{"$f":"IF(test!C226=4,1,0)","v":0},{"$f":"IF(test!D226=32,1,0)","v":0},{"$f":"IF(test!E226=12,1,0)","v":0},{"$f":"IF(test!F226=12,1,0)","v":0}]
["10.7",{"$f":"IF(test!B227=6,1,0)","v":0},{"$f":"IF(test!C227=4,1,0)","v":0},{"$f":"IF(test!D227=2,1,0)","v":0},{"$f":"IF(test!E227=2,1,0)","v":0},{"$f":"IF(test!F227=0,1,0)","v":1}]
["10.8",{"$f":"IF(test!B228=2,1,0)","v":0},{"$f":"IF(test!C228=4,1,0)","v":0},{"$f":"IF(test!D228=2,1,0)","v":0},{"$f":"IF(test!E228=2,1,0)","v":0},{"$f":"IF(test!F228=2,1,0)","v":0}]
["10.9",{"$f":"IF(test!B229=2,1,0)","v":0},{"$f":"IF(test!C229=2,1,0)","v":0},{"$f":"IF(test!D229=2,1,0)","v":0},{"$f":"IF(test!E229=1,1,0)","v":0},{"$f":"IF(test!F229=1,1,0)","v":0}]
["10.10",{"$f":"IF(test!B230=4,1,0)","v":0},{"$f":"IF(test!C230=18,1,0)","v":0},{"$f":"IF(test!D230=18,1,0)","v":0},{"$f":"IF(test!E230=36,1,0)","v":0},{"$f":"IF(test!F230=18,1,0)","v":0}]
["10.11",{"$f":"IF(test!B231=8,1,0)","v":0},{"$f":"IF(test!C231=8,1,0)","v":0},{"$f":"IF(test!D231=33,1,0)","v":0},{"$f":"IF(test!E231=33,1,0)","v":0},{"$f":"IF(test!F231=24,1,0)","v":0}]
["10.12",{"$f":"IF(test!B232=2,1,0)","v":0},{"$f":"IF(test!C232=12,1,0)","v":0},{"$f":"IF(test!D232=2,1,0)","v":0},{"$f":"IF(test!E232=12,1,0)","v":0},{"$f":"IF(test!F232=12,1,0)","v":0}]
["10.13",{"$f":"IF(test!B233=10,1,0)","v":0},{"$f":"IF(test!C233=0,1,0)","v":1},{"$f":"IF(test!D233=24,1,0)","v":0},{"$f":"IF(test!E233=24,1,0)","v":0},{"$f":"IF(test!F233=24,1,0)","v":0}]
["10.14",{"$f":"IF(test!B234=10,1,0)","v":0},{"$f":"IF(test!C234=2,1,0)","v":0},{"$f":"IF(test!D234=10,1,0)","v":0},{"$f":"IF(test!E234=10,1,0)","v":0},{"$f":"IF(test!F234=10,1,0)","v":0}]
["10.15",{"$f":"IF(test!B235=4,1,0)","v":0},{"$f":"IF(test!C235=22,1,0)","v":0},{"$f":"IF(test!D235=22,1,0)","v":0},{"$f":"IF(test!E235=11,1,0)","v":0},{"$f":"IF(test!F235=11,1,0)","v":0}]
["10.16",{"$f":"IF(test!B236=2,1,0)","v":0},{"$f":"IF(test!C236=72,1,0)","v":0},{"$f":"IF(test!D236=48,1,0)","v":0},{"$f":"IF(test!E236=24,1,0)","v":0},{"$f":"IF(test!F236=48,1,0)","v":0}]
["10.17",{"$f":"IF(test!B237=12,1,0)","v":0},{"$f":"IF(test!C237=12,1,0)","v":0},{"$f":"IF(test!D237=12,1,0)","v":0},{"$f":"IF(test!E237=24,1,0)","v":0},{"$f":"IF(test!F237=2,1,0)","v":0}]
["10.18",{"$f":"IF(test!B238=1,1,0)","v":0},{"$f":"IF(test!C238=5,1,0)","v":0},{"$f":"IF(test!D238=12,1,0)","v":0},{"$f":"IF(test!E238=6,1,0)","v":0},{"$f":"IF(test!F238=6,1,0)","v":0}]
["10.19",{"$f":"IF(test!B239=2,1,0)","v":0},{"$f":"IF(test!C239=6,1,0)","v":0},{"$f":"IF(test!D239=3,1,0)","v":0},{"$f":"IF(test!E239=1,1,0)","v":0},{"$f":"IF(test!F239=3,1,0)","v":0}]
["10.20",{"$f":"IF(test!B240=2,1,0)","v":0},{"$f":"IF(test!C240=4,1,0)","v":0},{"$f":"IF(test!D240=4,1,0)","v":0},{"$f":"IF(test!E240=4,1,0)","v":0},{"$f":"IF(test!F240=2,1,0)","v":0}]
["10.21",{"$f":"IF(test!B241=8,1,0)","v":0},{"$f":"IF(test!C241=2,1,0)","v":0},{"$f":"IF(test!D241=2,1,0)","v":0},{"$f":"IF(test!E241=4,1,0)","v":0},{"$f":"IF(test!F241=8,1,0)","v":0}]
["10.22",{"$f":"IF(test!B242=24,1,0)","v":0},{"$f":"IF(test!C242=12,1,0)","v":0},{"$f":"IF(test!D242=12,1,0)","v":0},{"$f":"IF(test!E242=6,1,0)","v":0},{"$f":"IF(test!F242=6,1,0)","v":0}]
["10.23",{"$f":"IF(test!B243=24,1,0)","v":0},{"$f":"IF(test!C243=24,1,0)","v":0},{"$f":"IF(test!D243=24,1,0)","v":0},{"$f":"IF(test!E243=24,1,0)","v":0},{"$f":"IF(test!F243=12,1,0)","v":0}]
["10.24",{"$f":"IF(test!B244=4,1,0)","v":0},{"$f":"IF(test!C244=4,1,0)","v":0},{"$f":"IF(test!D244=2,1,0)","v":0},{"$f":"IF(test!E244=2,1,0)","v":0},{"$f":"IF(test!F244=2,1,0)","v":0}]
["10.25",{"$f":"IF(test!B245=4,1,0)","v":0},{"$f":"IF(test!C245=2,1,0)","v":0},{"$f":"IF(test!D245=2,1,0)","v":0},{"$f":"IF(test!E245=1,1,0)","v":0},{"$f":"IF(test!F245=1,1,0)","v":0}]
["10.26",{"$f":"IF(test!B246=4,1,0)","v":0},{"$f":"IF(test!C246=9,1,0)","v":0},{"$f":"IF(test!D246=18,1,0)","v":0},{"$f":"IF(test!E246=9,1,0)","v":0},{"$f":"IF(test!F246=9,1,0)","v":0}]
["10.27",{"$f":"IF(test!B247=2,1,0)","v":0},{"$f":"IF(test!C247=0,1,0)","v":1},{"$f":"IF(test!D247=40,1,0)","v":0},{"$f":"IF(test!E247=40,1,0)","v":0},{"$f":"IF(test!F247=0,1,0)","v":1}]
["10.28",{"$f":"IF(test!B248=0,1,0)","v":1},{"$f":"IF(test!C248=14,1,0)","v":0},{"$f":"IF(test!D248=9,1,0)","v":0},{"$f":"IF(test!E248=9,1,0)","v":0},{"$f":"IF(test!F248=9,1,0)","v":0}]
["10.29",{"$f":"IF(test!B249=12,1,0)","v":0},{"$f":"IF(test!C249=12,1,0)","v":0},{"$f":"IF(test!D249=24,1,0)","v":0},{"$f":"IF(test!E249=24,1,0)","v":0},{"$f":"IF(test!F249=48,1,0)","v":0}]
[]
["11.1",{"$f":"IF(test!B251=25,1,0)","v":0},{"$f":"IF(test!C251=0.5,1,0)","v":0},{"$f":"IF(test!D251=0.5,1,0)","v":0},{"$f":"IF(test!E251=25,1,0)","v":0},{"$f":"IF(test!F251=50,1,0)","v":0}]
["11.2",{"$f":"IF(test!B252=25,1,0)","v":0},{"$f":"IF(test!C252=0.5,1,0)","v":0},{"$f":"IF(test!D252=0.5,1,0)","v":0},{"$f":"IF(test!E252=25,1,0)","v":0},{"$f":"IF(test!F252=50,1,0)","v":0}]
["11.3",{"$f":"IF(test!B253=0.9,1,0)","v":0},{"$f":"IF(test!C253=0.1,1,0)","v":0},{"$f":"IF(test!D253=1,1,0)","v":0},{"$f":"IF(test!E253=18,1,0)","v":0},{"$f":"IF(test!F253=36,1,0)","v":0}]
["11.4",{"$f":"IF(test!B254=0.8,1,0)","v":0},{"$f":"IF(test!C254=0.2,1,0)","v":0},{"$f":"IF(test!D254=4,1,0)","v":0},{"$f":"IF(test!E254=64,1,0)","v":0},{"$f":"IF(test!F254=36,1,0)","v":0}]
["11.5",{"$f":"IF(test!B255=0.3,1,0)","v":0},{"$f":"IF(test!C255=0.7,1,0)","v":0},{"$f":"IF(test!D255=49,1,0)","v":0},{"$f":"IF(test!E255=42,1,0)","v":0},{"$f":"IF(test!F255=0.01,1,0)","v":0}]
["11.6",{"$f":"IF(test!B256=0.2,1,0)","v":0},{"$f":"IF(test!C256=0.8,1,0)","v":0},{"$f":"IF(test!D256=64,1,0)","v":0},{"$f":"IF(test!E256=32,1,0)","v":0},{"$f":"IF(test!F256=46,1,0)","v":0}]
["11.7",{"$f":"IF(test!B257=2.93,1,0)","v":0},{"$f":"IF(test!C257=0.17,1,0)","v":0},{"$f":"IF(test!D257=0.83,1,0)","v":0},{"$f":"IF(test!E257=84.9,1,0)","v":0},{"$f":"IF(test!F257=36,1,0)","v":0}]
["11.8",{"$f":"IF(test!B258=0.1,1,0)","v":0},{"$f":"IF(test!C258=0.9,1,0)","v":0},{"$f":"IF(test!D258=81,1,0)","v":0},{"$f":"IF(test!E258=18,1,0)","v":0},{"$f":"IF(test!F258=32,1,0)","v":0}]
["11.9",{"$f":"IF(test!B259=42,1,0)","v":0},{"$f":"IF(test!C259=0.65,1,0)","v":0},{"$f":"IF(test!D259=0.55,1,0)","v":0},{"$f":"IF(test!E259=12,1,0)","v":0},{"$f":"IF(test!F259=46,1,0)","v":0}]
["11.10",{"$f":"IF(test!B260=0.08,1,0)","v":0},{"$f":"IF(test!C260=0.089,1,0)","v":0},{"$f":"IF(test!D260=0.911,1,0)","v":0},{"$f":"IF(test!E260=415,1,0)","v":0},{"$f":"IF(test!F260=81,1,0)","v":0}]
["11.11",{"$f":"IF(test!B261=0.2,1,0)","v":0},{"$f":"IF(test!C261=0.8,1,0)","v":0},{"$f":"IF(test!D261=64,1,0)","v":0},{"$f":"IF(test!E261=32,1,0)","v":0},{"$f":"IF(test!F261=52,1,0)","v":0}]
["11.12",{"$f":"IF(test!B262=0.4,1,0)","v":0},{"$f":"IF(test!C262=0.6,1,0)","v":0},{"$f":"IF(test!D262=36,1,0)","v":0},{"$f":"IF(test!E262=48,1,0)","v":0},{"$f":"IF(test!F262=50,1,0)","v":0}]
["11.13",{"$f":"IF(test!B263=0.431,1,0)","v":0},{"$f":"IF(test!C263=0.569,1,0)","v":0},{"$f":"IF(test!D263=32.3,1,0)","v":0},{"$f":"IF(test!E263=971,1,0)","v":0},{"$f":"IF(test!F263=42,1,0)","v":0}]
["11.14",{"$f":"IF(test!B264=2.06,1,0)","v":0},{"$f":"IF(test!C264=9144,1,0)","v":0},{"$f":"IF(test!D264=0.856,1,0)","v":0},{"$f":"IF(test!E264=73.3,1,0)","v":0},{"$f":"IF(test!F264=4940,1,0)","v":0}]
["11.15",{"$f":"IF(test!B265=4,1,0)","v":0},{"$f":"IF(test!C265=0.199,1,0)","v":0},{"$f":"IF(test!D265=0.801,1,0)","v":0},{"$f":"IF(test!E265=64,1,0)","v":0},{"$f":"IF(test!F265=0.458,1,0)","v":0}]
["11.16",{"$f":"IF(test!B266=98,1,0)","v":0},{"$f":"IF(test!C266=0.99,1,0)","v":0},{"$f":"IF(test!D266=0.01,1,0)","v":0},{"$f":"IF(test!E266=0.01,1,0)","v":0},{"$f":"IF(test!F266=2,1,0)","v":0}]
["11.17",{"$f":"IF(test!B267=87.8,1,0)","v":0},{"$f":"IF(test!C267=0.937,1,0)","v":0},{"$f":"IF(test!D267=0.063,1,0)","v":0},{"$f":"IF(test!E267=0.584,1,0)","v":0},{"$f":"IF(test!F267=0.416,1,0)","v":0}]
["11.18",{"$f":"IF(test!B268=16.7,1,0)","v":0},{"$f":"IF(test!C268=0.409,1,0)","v":0},{"$f":"IF(test!D268=0.591,1,0)","v":0},{"$f":"IF(test!E268=48.3,1,0)","v":0},{"$f":"IF(test!F268=0.409,1,0)","v":0}]
["11.19",{"$f":"IF(test!B269=8.7,1,0)","v":0},{"$f":"IF(test!C269=0.295,1,0)","v":0},{"$f":"IF(test!D269=0.705,1,0)","v":0},{"$f":"IF(test!E269=41.6,1,0)","v":0},{"$f":"IF(test!F269=0.705,1,0)","v":0}]
["11.20",{"$f":"IF(test!B270=2.4,1,0)","v":0},{"$f":"IF(test!C270=0.155,1,0)","v":0},{"$f":"IF(test!D270=0.845,1,0)","v":0},{"$f":"IF(test!E270=71.4,1,0)","v":0},{"$f":"IF(test!F270=26.2,1,0)","v":0}]
["11.21",{"$f":"IF(test!B271=33.4,1,0)","v":0},{"$f":"IF(test!C271=0.578,1,0)","v":0},{"$f":"IF(test!D271=0.422,1,0)","v":0},{"$f":"IF(test!E271=48.8,1,0)","v":0},{"$f":"IF(test!F271=0.422,1,0)","v":0}]
["11.22",{"$f":"IF(test!B272=36,1,0)","v":0},{"$f":"IF(test!C272=0.6,1,0)","v":0},{"$f":"IF(test!D272=0.4,1,0)","v":0},{"$f":"IF(test!E272=48,1,0)","v":0},{"$f":"IF(test!F272=0.4,1,0)","v":0}]
["11.23",{"$f":"IF(test!B273=-1,1,0)","v":0},{"$f":"IF(test!C273=0.923,1,0)","v":0},{"$f":"IF(test!D273=0.878,1,0)","v":0},{"$f":"IF(test!E273=0.095,1,0)","v":0},{"$f":"IF(test!F273=0.003,1,0)","v":0}]
["11.24",{"$f":"IF(test!B274=-1,1,0)","v":0},{"$f":"IF(test!C274=0.2,1,0)","v":0},{"$f":"IF(test!D274=0.766,1,0)","v":0},{"$f":"IF(test!E274=0.095,1,0)","v":0},{"$f":"IF(test!F274=0.05,1,0)","v":0}]
["11.25",{"$f":"IF(test!B275=-1,1,0)","v":0},{"$f":"IF(test!C275=0.9,1,0)","v":0},{"$f":"IF(test!D275=0.117,1,0)","v":0},{"$f":"IF(test!E275=0.063,1,0)","v":0},{"$f":"IF(test!F275=0.96,1,0)","v":0}]
[]
["12.1",{"$f":"IF(test!B277=148,1,0)","v":0},{"$f":"IF(test!C277=148,1,0)","v":0},{"$f":"IF(test!D277=320,1,0)","v":0},{"$f":"IF(test!E277=1280,1,0)","v":0},{"$f":"IF(test!F277=320,1,0)","v":0}]
["12.2",{"$f":"IF(test!B278=100,1,0)","v":0},{"$f":"IF(test!C278=100,1,0)","v":0},{"$f":"IF(test!D278=100,1,0)","v":0},{"$f":"IF(test!E278=0,1,0)","v":1},{"$f":"IF(test!F278=3,1,0)","v":0}]
["12.3",{"$f":"IF(test!B279=0,1,0)","v":1},{"$f":"IF(test!C279=120,1,0)","v":0},{"$f":"IF(test!D279=236,1,0)","v":0},{"$f":"IF(test!E279=236,1,0)","v":0},{"$f":"IF(test!F279=25,1,0)","v":0}]
["12.4",{"$f":"IF(test!B280=122,1,0)","v":0},{"$f":"IF(test!C280=122,1,0)","v":0},{"$f":"IF(test!D280=116,1,0)","v":0},{"$f":"IF(test!E280=75,1,0)","v":0},{"$f":"IF(test!F280=100,1,0)","v":0}]
["12.5",{"$f":"IF(test!B281=115,1,0)","v":0},{"$f":"IF(test!C281=115,1,0)","v":0},{"$f":"IF(test!D281=1830,1,0)","v":0},{"$f":"IF(test!E281=610,1,0)","v":0},{"$f":"IF(test!F281=610,1,0)","v":0}]
["12.6",{"$f":"IF(test!B282=50,1,0)","v":0},{"$f":"IF(test!C282=0,1,0)","v":1},{"$f":"IF(test!D282=50,1,0)","v":0},{"$f":"IF(test!E282=100,1,0)","v":0},{"$f":"IF(test!F282=4,1,0)","v":0}]
["12.7",{"$f":"IF(test!B283=50,1,0)","v":0},{"$f":"IF(test!C283=0,1,0)","v":1},{"$f":"IF(test!D283=100,1,0)","v":0},{"$f":"IF(test!E283=50,1,0)","v":0},{"$f":"IF(test!F283=3,1,0)","v":0}]
["12.8",{"$f":"IF(test!B284=50,1,0)","v":0},{"$f":"IF(test!C284=50,1,0)","v":0},{"$f":"IF(test!D284=100,1,0)","v":0},{"$f":"IF(test!E284=0,1,0)","v":1},{"$f":"IF(test!F284=3,1,0)","v":0}]
["12.9",{"$f":"IF(test!B285=64,1,0)","v":0},{"$f":"IF(test!C285=64,1,0)","v":0},{"$f":"IF(test!D285=760,1,0)","v":0},{"$f":"IF(test!E285=190,1,0)","v":0},{"$f":"IF(test!F285=190,1,0)","v":0}]
["12.10",{"$f":"IF(test!B286=50,1,0)","v":0},{"$f":"IF(test!C286=100,1,0)","v":0},{"$f":"IF(test!D286=50,1,0)","v":0},{"$f":"IF(test!E286=0,1,0)","v":1},{"$f":"IF(test!F286=2,1,0)","v":0}]
["12.11",{"$f":"IF(test!B287=0,1,0)","v":1},{"$f":"IF(test!C287=148,1,0)","v":0},{"$f":"IF(test!D287=608,1,0)","v":0},{"$f":"IF(test!E287=190,1,0)","v":0},{"$f":"IF(test!F287=38,1,0)","v":0}]
["12.12",{"$f":"IF(test!B288=0,1,0)","v":1},{"$f":"IF(test!C288=123,1,0)","v":0},{"$f":"IF(test!D288=18,1,0)","v":0},{"$f":"IF(test!E288=288,1,0)","v":0},{"$f":"IF(test!F288=0,1,0)","v":1}]